BEGIN:VCALENDAR
VERSION:2.0
PRODID:-//Carlisle Theatre - ECPv6.15.20//NONSGML v1.0//EN
CALSCALE:GREGORIAN
METHOD:PUBLISH
X-WR-CALNAME:Carlisle Theatre
X-ORIGINAL-URL:https://carlisletheatre.org
X-WR-CALDESC:Events for Carlisle Theatre
REFRESH-INTERVAL;VALUE=DURATION:PT1H
X-Robots-Tag:noindex
X-PUBLISHED-TTL:PT1H
BEGIN:VTIMEZONE
TZID:America/Detroit
BEGIN:DAYLIGHT
TZOFFSETFROM:-0500
TZOFFSETTO:-0400
TZNAME:EDT
DTSTART:20230312T070000
END:DAYLIGHT
BEGIN:STANDARD
TZOFFSETFROM:-0400
TZOFFSETTO:-0500
TZNAME:EST
DTSTART:20231105T060000
END:STANDARD
BEGIN:DAYLIGHT
TZOFFSETFROM:-0500
TZOFFSETTO:-0400
TZNAME:EDT
DTSTART:20240310T070000
END:DAYLIGHT
BEGIN:STANDARD
TZOFFSETFROM:-0400
TZOFFSETTO:-0500
TZNAME:EST
DTSTART:20241103T060000
END:STANDARD
BEGIN:DAYLIGHT
TZOFFSETFROM:-0500
TZOFFSETTO:-0400
TZNAME:EDT
DTSTART:20250309T070000
END:DAYLIGHT
BEGIN:STANDARD
TZOFFSETFROM:-0400
TZOFFSETTO:-0500
TZNAME:EST
DTSTART:20251102T060000
END:STANDARD
END:VTIMEZONE
BEGIN:VEVENT
DTSTART;TZID=America/Detroit:20240818T140000
DTEND;TZID=America/Detroit:20240818T163000
DTSTAMP:20260424T120814
CREATED:20240730T190438Z
LAST-MODIFIED:20241010T162244Z
UID:1588-1723989600-1723998600@carlisletheatre.org
SUMMARY:Summer Film Series: Wonder Woman
DESCRIPTION:WONDER WOMAN | August 18 @ 2:00PM\nRated PG-13 | Adventure/Fantasy | 2h 29m\nHollywood on High Summer Family Film Series\n$7/Regular Matinee & $5/Children 12 & Under \nSEEKING SPONSORSHIP \n“Before she was Wonder Woman (Gal Gadot)\, she was Diana\, princess of the Amazons\, trained to be an unconquerable warrior. Raised on a sheltered island paradise\, Diana meets an American pilot (Chris Pine) who tells her about the massive conflict that’s raging in the outside world. Convinced that she can stop the threat\, Diana leaves her home for the first time. Fighting alongside men in a war to end all wars\, she finally discovers her full powers and true destiny.”
URL:https://carlisletheatre.org/event/wonderwoman/
LOCATION:Carlisle Theatre\, 40 W High St\, Carlisle\, PA\, 17013\, United States
CATEGORIES:Hollywood on High
ATTACH;FMTTYPE=image/png:https://carlisletheatre.org/wp-content/uploads/2024/07/Wonder-Woman.png
END:VEVENT
END:VCALENDAR