BEGIN:VCALENDAR
VERSION:2.0
PRODID:-//Carlisle Theatre - ECPv6.15.20//NONSGML v1.0//EN
CALSCALE:GREGORIAN
METHOD:PUBLISH
X-WR-CALNAME:Carlisle Theatre
X-ORIGINAL-URL:https://carlisletheatre.org
X-WR-CALDESC:Events for Carlisle Theatre
REFRESH-INTERVAL;VALUE=DURATION:PT1H
X-Robots-Tag:noindex
X-PUBLISHED-TTL:PT1H
BEGIN:VTIMEZONE
TZID:America/Detroit
BEGIN:DAYLIGHT
TZOFFSETFROM:-0500
TZOFFSETTO:-0400
TZNAME:EDT
DTSTART:20230312T070000
END:DAYLIGHT
BEGIN:STANDARD
TZOFFSETFROM:-0400
TZOFFSETTO:-0500
TZNAME:EST
DTSTART:20231105T060000
END:STANDARD
BEGIN:DAYLIGHT
TZOFFSETFROM:-0500
TZOFFSETTO:-0400
TZNAME:EDT
DTSTART:20240310T070000
END:DAYLIGHT
BEGIN:STANDARD
TZOFFSETFROM:-0400
TZOFFSETTO:-0500
TZNAME:EST
DTSTART:20241103T060000
END:STANDARD
BEGIN:DAYLIGHT
TZOFFSETFROM:-0500
TZOFFSETTO:-0400
TZNAME:EDT
DTSTART:20250309T070000
END:DAYLIGHT
BEGIN:STANDARD
TZOFFSETFROM:-0400
TZOFFSETTO:-0500
TZNAME:EST
DTSTART:20251102T060000
END:STANDARD
END:VTIMEZONE
BEGIN:VEVENT
DTSTART;TZID=America/Detroit:20240927T200000
DTEND;TZID=America/Detroit:20240927T230000
DTSTAMP:20260424T121320
CREATED:20240708T161000Z
LAST-MODIFIED:20241010T162232Z
UID:1476-1727467200-1727478000@carlisletheatre.org
SUMMARY:Top of the World: The World's Premiere Tribute to the Carpenters
DESCRIPTION:Top of the World: The world’s premiere tribute to The Carpenters\nShow Date | Friday\, September 27 @ 8:00PM\nOn Sale | Wednesday\, July 10 @ 12PM\ncarlisletheatre.showare.com/TOTW2024 \nFly on the Wall presents – Top of the World: The world’s premiere tribute to The Carpenters! Fronted by singer Debbie Taylor\, her Karen Carpenter vocal resemblance is absolutely astonishing. She is backed by a seven-piece band consisting of top-notch\, professional industry musicians who have had amazing careers in their own right. The band members are all multi-instrumentalists and at times use 3 keyboards to recreate the incredibly complex arrangements created by Richard Carpenter. The attention to detail paired with saxophone\, trumpet\, flute and many more instruments complete every song to perfection! \nThis show does not use tracks or pick up musicians like other shows. This is an 8 piece band that travels and performs all shows together.  Additionally\, they have a multi-media slideshow which can be seen on their “Live Video” below. Who can forget the incomparable music of the Carpenters? The popular brother/sister duo of the 70’s and early 80’s gave us some of the most unforgettable ballads and melodic pop songs of all time. \nThis Carpenters Tribute Band brings the most authentic versions of the Carpenters music to the stage. No doubt\, you will be singing along as they perform hits like; “Close To You”\, “We’ve Only Just Begun”\, “Rainy Days And Mondays”\, “Please Mr. Postman” and “Yesterday Once More”\, to name a few. Debbie captures the warm tones and contralto range that made Karen’s voice so unique. Sit back and enjoy as Debbie and her band take you on a nostalgic journey through the Carpenters greatest hits while sharing some of the backstories behind the music. \nCLICK HERE FOR TOP OF THE WORLD PROMO VIDEO.
URL:https://carlisletheatre.org/event/top-of-the-world-2024/
LOCATION:Carlisle Theatre\, 40 W High St\, Carlisle\, PA\, 17013\, United States
CATEGORIES:Concerts / Events
ATTACH;FMTTYPE=image/jpeg:https://carlisletheatre.org/wp-content/uploads/2024/07/TOTWWebsiteCarlisle-1.jpg
END:VEVENT
END:VCALENDAR