BEGIN:VCALENDAR
VERSION:2.0
PRODID:-//Carlisle Theatre - ECPv6.15.20//NONSGML v1.0//EN
CALSCALE:GREGORIAN
METHOD:PUBLISH
X-WR-CALNAME:Carlisle Theatre
X-ORIGINAL-URL:https://carlisletheatre.org
X-WR-CALDESC:Events for Carlisle Theatre
REFRESH-INTERVAL;VALUE=DURATION:PT1H
X-Robots-Tag:noindex
X-PUBLISHED-TTL:PT1H
BEGIN:VTIMEZONE
TZID:America/Detroit
BEGIN:DAYLIGHT
TZOFFSETFROM:-0500
TZOFFSETTO:-0400
TZNAME:EDT
DTSTART:20230312T070000
END:DAYLIGHT
BEGIN:STANDARD
TZOFFSETFROM:-0400
TZOFFSETTO:-0500
TZNAME:EST
DTSTART:20231105T060000
END:STANDARD
BEGIN:DAYLIGHT
TZOFFSETFROM:-0500
TZOFFSETTO:-0400
TZNAME:EDT
DTSTART:20240310T070000
END:DAYLIGHT
BEGIN:STANDARD
TZOFFSETFROM:-0400
TZOFFSETTO:-0500
TZNAME:EST
DTSTART:20241103T060000
END:STANDARD
BEGIN:DAYLIGHT
TZOFFSETFROM:-0500
TZOFFSETTO:-0400
TZNAME:EDT
DTSTART:20250309T070000
END:DAYLIGHT
BEGIN:STANDARD
TZOFFSETFROM:-0400
TZOFFSETTO:-0500
TZNAME:EST
DTSTART:20251102T060000
END:STANDARD
END:VTIMEZONE
BEGIN:VEVENT
DTSTART;VALUE=DATE:20241004
DTEND;VALUE=DATE:20241014
DTSTAMP:20260424T120807
CREATED:20240430T201027Z
LAST-MODIFIED:20241010T162230Z
UID:1002-1728000000-1728863999@carlisletheatre.org
SUMMARY:To Kill A Mockingbird
DESCRIPTION:TO KILL A MOCKINGBIRD\nDramatized by Christopher Sergel\, Book by Harper Lee \nOctober 4\,5\,10\, 11\, 12 @ 7:30PM\nOctober 6 & 13 @ 2:00PM \n“In Maycomb\, Alabama\, (1935) in the early days of the Great Depression\, events unfold through the eyes of Scout Finch\, growing up in a close-knit neighborhood with her older brother Jem and their summertime friend\, Dill. Their father\, Atticus Finch\, a well-respected white lawyer\, defends Tom Robinson\, a black man accused of raping a young white woman. Through the drama of the trial and its aftermath comes an examination of systemic racism\, freedom\, injustice\, honesty\, and hypocrisy.” \nPlayers on High\, the live theatre branch of the Carlisle Theatre\, is committed to collaborative efforts with the community & continuous learning to ensure authentic\, truthful & sensitive storytelling on our historical stage.
URL:https://carlisletheatre.org/event/to-kill-a-mockingbird/
LOCATION:Carlisle Theatre\, 40 W High St\, Carlisle\, PA\, 17013\, United States
CATEGORIES:Players on High
ATTACH;FMTTYPE=image/png:https://carlisletheatre.org/wp-content/uploads/2024/04/TKAMB-Pos.png
END:VEVENT
END:VCALENDAR