BEGIN:VCALENDAR
VERSION:2.0
PRODID:-//Carlisle Theatre - ECPv6.15.20//NONSGML v1.0//EN
CALSCALE:GREGORIAN
METHOD:PUBLISH
X-WR-CALNAME:Carlisle Theatre
X-ORIGINAL-URL:https://carlisletheatre.org
X-WR-CALDESC:Events for Carlisle Theatre
REFRESH-INTERVAL;VALUE=DURATION:PT1H
X-Robots-Tag:noindex
X-PUBLISHED-TTL:PT1H
BEGIN:VTIMEZONE
TZID:America/Detroit
BEGIN:DAYLIGHT
TZOFFSETFROM:-0500
TZOFFSETTO:-0400
TZNAME:EDT
DTSTART:20240310T070000
END:DAYLIGHT
BEGIN:STANDARD
TZOFFSETFROM:-0400
TZOFFSETTO:-0500
TZNAME:EST
DTSTART:20241103T060000
END:STANDARD
BEGIN:DAYLIGHT
TZOFFSETFROM:-0500
TZOFFSETTO:-0400
TZNAME:EDT
DTSTART:20250309T070000
END:DAYLIGHT
BEGIN:STANDARD
TZOFFSETFROM:-0400
TZOFFSETTO:-0500
TZNAME:EST
DTSTART:20251102T060000
END:STANDARD
BEGIN:DAYLIGHT
TZOFFSETFROM:-0500
TZOFFSETTO:-0400
TZNAME:EDT
DTSTART:20260308T070000
END:DAYLIGHT
BEGIN:STANDARD
TZOFFSETFROM:-0400
TZOFFSETTO:-0500
TZNAME:EST
DTSTART:20261101T060000
END:STANDARD
END:VTIMEZONE
BEGIN:VEVENT
DTSTART;VALUE=DATE:20250413
DTEND;VALUE=DATE:20250414
DTSTAMP:20260422T003432
CREATED:20250315T171040Z
LAST-MODIFIED:20250315T171240Z
UID:2333-1744502400-1744588799@carlisletheatre.org
SUMMARY:The Secretariat
DESCRIPTION:The Secretariat\nRated PG | Family | 2h 3m | 2010\nGenerously Sponsored by Kevin Rockwood \nSunday\, April 13 @ 2:00pm \nThe inspiring story of the greatest racehorse of all time and the team that helped him succeed. Despite her lack of experience\, Penny Chenery (Diane Lane) agrees to take over management of the family Thoroughbred farm after her father (Scott Glenn) becomes ill. Successfully navigating her way through the male-dominated world of horse racing\, Chenery\, together with veteran trainer Lucien Laurin (John Malkovich)\, fosters a gifted colt that ultimately crosses the finish line into history as the Triple Crown winner in 1973.
URL:https://carlisletheatre.org/event/thesecretariat/
LOCATION:Carlisle Theatre\, 40 W High St\, Carlisle\, PA\, 17013\, United States
CATEGORIES:Hollywood on High
ATTACH;FMTTYPE=image/jpeg:https://carlisletheatre.org/wp-content/uploads/2025/03/WebsiteSquares-Secretariat.jpeg
END:VEVENT
END:VCALENDAR