BEGIN:VCALENDAR
VERSION:2.0
PRODID:-//Carlisle Theatre - ECPv6.15.20//NONSGML v1.0//EN
CALSCALE:GREGORIAN
METHOD:PUBLISH
X-WR-CALNAME:Carlisle Theatre
X-ORIGINAL-URL:https://carlisletheatre.org
X-WR-CALDESC:Events for Carlisle Theatre
REFRESH-INTERVAL;VALUE=DURATION:PT1H
X-Robots-Tag:noindex
X-PUBLISHED-TTL:PT1H
BEGIN:VTIMEZONE
TZID:America/Detroit
BEGIN:DAYLIGHT
TZOFFSETFROM:-0500
TZOFFSETTO:-0400
TZNAME:EDT
DTSTART:20240310T070000
END:DAYLIGHT
BEGIN:STANDARD
TZOFFSETFROM:-0400
TZOFFSETTO:-0500
TZNAME:EST
DTSTART:20241103T060000
END:STANDARD
BEGIN:DAYLIGHT
TZOFFSETFROM:-0500
TZOFFSETTO:-0400
TZNAME:EDT
DTSTART:20250309T070000
END:DAYLIGHT
BEGIN:STANDARD
TZOFFSETFROM:-0400
TZOFFSETTO:-0500
TZNAME:EST
DTSTART:20251102T060000
END:STANDARD
BEGIN:DAYLIGHT
TZOFFSETFROM:-0500
TZOFFSETTO:-0400
TZNAME:EDT
DTSTART:20260308T070000
END:DAYLIGHT
BEGIN:STANDARD
TZOFFSETFROM:-0400
TZOFFSETTO:-0500
TZNAME:EST
DTSTART:20261101T060000
END:STANDARD
END:VTIMEZONE
BEGIN:VEVENT
DTSTART;TZID=America/Detroit:20250917T190000
DTEND;TZID=America/Detroit:20250917T210000
DTSTAMP:20260421T190837
CREATED:20250802T011158Z
LAST-MODIFIED:20250802T011158Z
UID:2645-1758135600-1758142800@carlisletheatre.org
SUMMARY:Classic Wednesdays: The African Queen
DESCRIPTION:Classic Wednesday: The African Queen\nNot Rated | Adventure/Romance | 1h 46m | 1951\nSeeking Sponsorship – films@carlisletheatre.org \nWednesday\, September 17 @ 7:00pm \nAfter religious spinster’s (Katharine Hepburn) missionary brother is killed in WWI Africa\, dissolute steamer captain (Humphrey Bogart) offers her safe passage. She’s not satisfied so she persuades him to destroy a German gunboat. The two spend most of their time fighting with each other rather than the Germans. Time alone on the river leads to love.
URL:https://carlisletheatre.org/event/theafricanqueen/
LOCATION:Carlisle Theatre\, 40 W High St\, Carlisle\, PA\, 17013\, United States
CATEGORIES:Hollywood on High
ATTACH;FMTTYPE=image/png:https://carlisletheatre.org/wp-content/uploads/2025/08/2526-Website-Squares.zip-TheAfricanQueen.png
END:VEVENT
END:VCALENDAR