BEGIN:VCALENDAR
VERSION:2.0
PRODID:-//Carlisle Theatre - ECPv6.15.20//NONSGML v1.0//EN
CALSCALE:GREGORIAN
METHOD:PUBLISH
X-WR-CALNAME:Carlisle Theatre
X-ORIGINAL-URL:https://carlisletheatre.org
X-WR-CALDESC:Events for Carlisle Theatre
REFRESH-INTERVAL;VALUE=DURATION:PT1H
X-Robots-Tag:noindex
X-PUBLISHED-TTL:PT1H
BEGIN:VTIMEZONE
TZID:America/Detroit
BEGIN:DAYLIGHT
TZOFFSETFROM:-0500
TZOFFSETTO:-0400
TZNAME:EDT
DTSTART:20240310T070000
END:DAYLIGHT
BEGIN:STANDARD
TZOFFSETFROM:-0400
TZOFFSETTO:-0500
TZNAME:EST
DTSTART:20241103T060000
END:STANDARD
BEGIN:DAYLIGHT
TZOFFSETFROM:-0500
TZOFFSETTO:-0400
TZNAME:EDT
DTSTART:20250309T070000
END:DAYLIGHT
BEGIN:STANDARD
TZOFFSETFROM:-0400
TZOFFSETTO:-0500
TZNAME:EST
DTSTART:20251102T060000
END:STANDARD
BEGIN:DAYLIGHT
TZOFFSETFROM:-0500
TZOFFSETTO:-0400
TZNAME:EDT
DTSTART:20260308T070000
END:DAYLIGHT
BEGIN:STANDARD
TZOFFSETFROM:-0400
TZOFFSETTO:-0500
TZNAME:EST
DTSTART:20261101T060000
END:STANDARD
END:VTIMEZONE
BEGIN:VEVENT
DTSTART;TZID=America/Detroit:20250929T180000
DTEND;TZID=America/Detroit:20250929T200000
DTSTAMP:20260421T170531
CREATED:20250918T150049Z
LAST-MODIFIED:20250918T151047Z
UID:2781-1759168800-1759176000@carlisletheatre.org
SUMMARY:The Wild Robot
DESCRIPTION:The Wild Robot\nPG | Animated / Family | 1h 42m | 2024\nSponsored by Valley Pediatric Dentistry \nMonday\, September 29 @ 6:00pm \nAfter a shipwreck\, an intelligent robot is stranded on an uninhabited island. To survive the harsh surroundings\, she bonds with the native animals and cares for an orphaned baby goose. This year\, the film was nominated for 3 Oscars.
URL:https://carlisletheatre.org/event/the-wild-robot/
LOCATION:Carlisle Theatre\, 40 W High St\, Carlisle\, PA\, 17013\, United States
CATEGORIES:Hollywood on High
ATTACH;FMTTYPE=image/webp:https://carlisletheatre.org/wp-content/uploads/2025/09/TheWildRobotSept29.webp
END:VEVENT
END:VCALENDAR