BEGIN:VCALENDAR
VERSION:2.0
PRODID:-//Carlisle Theatre - ECPv6.15.20//NONSGML v1.0//EN
CALSCALE:GREGORIAN
METHOD:PUBLISH
X-WR-CALNAME:Carlisle Theatre
X-ORIGINAL-URL:https://carlisletheatre.org
X-WR-CALDESC:Events for Carlisle Theatre
REFRESH-INTERVAL;VALUE=DURATION:PT1H
X-Robots-Tag:noindex
X-PUBLISHED-TTL:PT1H
BEGIN:VTIMEZONE
TZID:America/Detroit
BEGIN:DAYLIGHT
TZOFFSETFROM:-0500
TZOFFSETTO:-0400
TZNAME:EDT
DTSTART:20240310T070000
END:DAYLIGHT
BEGIN:STANDARD
TZOFFSETFROM:-0400
TZOFFSETTO:-0500
TZNAME:EST
DTSTART:20241103T060000
END:STANDARD
BEGIN:DAYLIGHT
TZOFFSETFROM:-0500
TZOFFSETTO:-0400
TZNAME:EDT
DTSTART:20250309T070000
END:DAYLIGHT
BEGIN:STANDARD
TZOFFSETFROM:-0400
TZOFFSETTO:-0500
TZNAME:EST
DTSTART:20251102T060000
END:STANDARD
BEGIN:DAYLIGHT
TZOFFSETFROM:-0500
TZOFFSETTO:-0400
TZNAME:EDT
DTSTART:20260308T070000
END:DAYLIGHT
BEGIN:STANDARD
TZOFFSETFROM:-0400
TZOFFSETTO:-0500
TZNAME:EST
DTSTART:20261101T060000
END:STANDARD
END:VTIMEZONE
BEGIN:VEVENT
DTSTART;TZID=America/Detroit:20250221T193000
DTEND;TZID=America/Detroit:20250221T220000
DTSTAMP:20260424T081453
CREATED:20250106T210832Z
LAST-MODIFIED:20250219T204306Z
UID:1778-1740166200-1740175200@carlisletheatre.org
SUMMARY:The Ultimate Tribute to the BeeGees & ABBA
DESCRIPTION:The Ultimate Tribute to the BeeGees & ABBA\nFriday\, February 21\, 2024 | 7:30PM\nPresented by Moxie Events\nHosted by the Carlisle Theatre \n“Step into a dazzling tribute show that celebrates the timeless music of ABBA and the Bee Gees\, where nostalgia and electrifying performances collide. As the lights dim and the crowd buzzes with excitement\, the stage comes alive with iconic hits like “Dancing Queen” and “Stayin’ Alive.” Talented performers don vibrant costumes reminiscent of the ’70s\, capturing the essence of these legendary bands. The harmonies soar as the audience is transported to a disco inferno\, swaying and singing along to beloved classics that have transcended generations. From the infectious melodies to the captivating choreography\, every moment is crafted to evoke the joy and energy that defined an era. As the show unfolds\, the audience is treated to a seamless blend of ABBA’s catchy pop anthems and the Bee Gees’ soulful ballads. Heartfelt renditions of “Mamma Mia” and “How Deep Is Your Love” resonate throughout the venue\, creating an atmosphere of unity and celebration. The performers engage with the crowd\, encouraging them to join in the fun\, creating a communal experience that feels like a reunion of friends. With dazzling light displays and expertly choreographed dance numbers\, this tribute show is a heartfelt homage to the music that continues to inspire and uplift. Whether you’re a lifelong fan or new to these legendary sounds\, the magic of ABBA and the Bee Gees is sure to leave you dancing in your seat and reminiscing about the golden days of pop music.” \nDoors open at 6:30pm. For more show by this promoter\, visit ilovemoxieevents.com
URL:https://carlisletheatre.org/event/the-ultimate-tribute-to-the-beegees-abba/
LOCATION:Carlisle Theatre\, 40 W High St\, Carlisle\, PA\, 17013\, United States
CATEGORIES:Concerts / Events
ATTACH;FMTTYPE=image/png:https://carlisletheatre.org/wp-content/uploads/2025/01/PianoMen_4.18-4.png
END:VEVENT
END:VCALENDAR