BEGIN:VCALENDAR
VERSION:2.0
PRODID:-//Carlisle Theatre - ECPv6.15.20//NONSGML v1.0//EN
CALSCALE:GREGORIAN
METHOD:PUBLISH
X-WR-CALNAME:Carlisle Theatre
X-ORIGINAL-URL:https://carlisletheatre.org
X-WR-CALDESC:Events for Carlisle Theatre
REFRESH-INTERVAL;VALUE=DURATION:PT1H
X-Robots-Tag:noindex
X-PUBLISHED-TTL:PT1H
BEGIN:VTIMEZONE
TZID:America/Detroit
BEGIN:DAYLIGHT
TZOFFSETFROM:-0500
TZOFFSETTO:-0400
TZNAME:EDT
DTSTART:20240310T070000
END:DAYLIGHT
BEGIN:STANDARD
TZOFFSETFROM:-0400
TZOFFSETTO:-0500
TZNAME:EST
DTSTART:20241103T060000
END:STANDARD
BEGIN:DAYLIGHT
TZOFFSETFROM:-0500
TZOFFSETTO:-0400
TZNAME:EDT
DTSTART:20250309T070000
END:DAYLIGHT
BEGIN:STANDARD
TZOFFSETFROM:-0400
TZOFFSETTO:-0500
TZNAME:EST
DTSTART:20251102T060000
END:STANDARD
BEGIN:DAYLIGHT
TZOFFSETFROM:-0500
TZOFFSETTO:-0400
TZNAME:EDT
DTSTART:20260308T070000
END:DAYLIGHT
BEGIN:STANDARD
TZOFFSETFROM:-0400
TZOFFSETTO:-0500
TZNAME:EST
DTSTART:20261101T060000
END:STANDARD
END:VTIMEZONE
BEGIN:VEVENT
DTSTART;TZID=America/Detroit:20251123T140000
DTEND;TZID=America/Detroit:20251123T160000
DTSTAMP:20260421T133050
CREATED:20251111T175846Z
LAST-MODIFIED:20251111T180331Z
UID:2902-1763906400-1763913600@carlisletheatre.org
SUMMARY:The Life of Chuck
DESCRIPTION:The Life of Chuck\nSci-Fi | Fantasy | 1h 51m | 2024 \nSunday\, November 23 @ 2:00pm \nBased on a novella by Stephen King\, the film blends fantasy and drama and is set in a near future dystopian world. A thought provoking and emotionally resonant film that encourages viewers to reflect on the beauty and significance of everyday life.
URL:https://carlisletheatre.org/event/the-life-of-chuck/
LOCATION:Carlisle Theatre\, 40 W High St\, Carlisle\, PA\, 17013\, United States
CATEGORIES:Hollywood on High
ATTACH;FMTTYPE=image/webp:https://carlisletheatre.org/wp-content/uploads/2025/11/2526-Website-Squares-LifeofChuck.webp
END:VEVENT
END:VCALENDAR