BEGIN:VCALENDAR
VERSION:2.0
PRODID:-//Carlisle Theatre - ECPv6.15.20//NONSGML v1.0//EN
CALSCALE:GREGORIAN
METHOD:PUBLISH
X-WR-CALNAME:Carlisle Theatre
X-ORIGINAL-URL:https://carlisletheatre.org
X-WR-CALDESC:Events for Carlisle Theatre
REFRESH-INTERVAL;VALUE=DURATION:PT1H
X-Robots-Tag:noindex
X-PUBLISHED-TTL:PT1H
BEGIN:VTIMEZONE
TZID:America/Detroit
BEGIN:DAYLIGHT
TZOFFSETFROM:-0500
TZOFFSETTO:-0400
TZNAME:EDT
DTSTART:20230312T070000
END:DAYLIGHT
BEGIN:STANDARD
TZOFFSETFROM:-0400
TZOFFSETTO:-0500
TZNAME:EST
DTSTART:20231105T060000
END:STANDARD
BEGIN:DAYLIGHT
TZOFFSETFROM:-0500
TZOFFSETTO:-0400
TZNAME:EDT
DTSTART:20240310T070000
END:DAYLIGHT
BEGIN:STANDARD
TZOFFSETFROM:-0400
TZOFFSETTO:-0500
TZNAME:EST
DTSTART:20241103T060000
END:STANDARD
BEGIN:DAYLIGHT
TZOFFSETFROM:-0500
TZOFFSETTO:-0400
TZNAME:EDT
DTSTART:20250309T070000
END:DAYLIGHT
BEGIN:STANDARD
TZOFFSETFROM:-0400
TZOFFSETTO:-0500
TZNAME:EST
DTSTART:20251102T060000
END:STANDARD
END:VTIMEZONE
BEGIN:VEVENT
DTSTART;TZID=America/Detroit:20241102T200000
DTEND;TZID=America/Detroit:20241102T230000
DTSTAMP:20260424T100910
CREATED:20240722T180032Z
LAST-MODIFIED:20241010T162212Z
UID:1485-1730577600-1730588400@carlisletheatre.org
SUMMARY:The Breakers: A Tribute to Tom Petty
DESCRIPTION:The Breakers: A Tribute to Tom Petty\nShow Date | Saturday\, November 2 @ 8:00PM\nOn Sale | Wednesday\, July 24 @ 10AM \nThe country’s premier Tom Petty & the Heartbreakers tribute band. Established to let the fans of the late great Tom Petty continue to enjoy the live experience of TP & the HB’s. No other Tom Petty tribute band comes close to capturing the SOUND and emotions of Tom’s songs quite like the Breakers.\n\nUnlike the vast amount of Tom Petty tributes who substitute visual mimicry for sound\, the Breakers encompass the true unmistakable sound and execution of Tom Petty & the Heartbreakers.\nCLICK HERE FOR THE BREAKERS PROMO VIDEO
URL:https://carlisletheatre.org/event/the-breakers/
LOCATION:Carlisle Theatre\, 40 W High St\, Carlisle\, PA\, 17013\, United States
CATEGORIES:Concerts / Events
ATTACH;FMTTYPE=image/jpeg:https://carlisletheatre.org/wp-content/uploads/2024/07/IMG_1587.jpeg
END:VEVENT
END:VCALENDAR