BEGIN:VCALENDAR
VERSION:2.0
PRODID:-//Carlisle Theatre - ECPv6.15.20//NONSGML v1.0//EN
CALSCALE:GREGORIAN
METHOD:PUBLISH
X-WR-CALNAME:Carlisle Theatre
X-ORIGINAL-URL:https://carlisletheatre.org
X-WR-CALDESC:Events for Carlisle Theatre
REFRESH-INTERVAL;VALUE=DURATION:PT1H
X-Robots-Tag:noindex
X-PUBLISHED-TTL:PT1H
BEGIN:VTIMEZONE
TZID:America/Detroit
BEGIN:DAYLIGHT
TZOFFSETFROM:-0500
TZOFFSETTO:-0400
TZNAME:EDT
DTSTART:20240310T070000
END:DAYLIGHT
BEGIN:STANDARD
TZOFFSETFROM:-0400
TZOFFSETTO:-0500
TZNAME:EST
DTSTART:20241103T060000
END:STANDARD
BEGIN:DAYLIGHT
TZOFFSETFROM:-0500
TZOFFSETTO:-0400
TZNAME:EDT
DTSTART:20250309T070000
END:DAYLIGHT
BEGIN:STANDARD
TZOFFSETFROM:-0400
TZOFFSETTO:-0500
TZNAME:EST
DTSTART:20251102T060000
END:STANDARD
BEGIN:DAYLIGHT
TZOFFSETFROM:-0500
TZOFFSETTO:-0400
TZNAME:EDT
DTSTART:20260308T070000
END:DAYLIGHT
BEGIN:STANDARD
TZOFFSETFROM:-0400
TZOFFSETTO:-0500
TZNAME:EST
DTSTART:20261101T060000
END:STANDARD
END:VTIMEZONE
BEGIN:VEVENT
DTSTART;TZID=America/Detroit:20251113T190000
DTEND;TZID=America/Detroit:20251113T210000
DTSTAMP:20260421T135327
CREATED:20251013T171320Z
LAST-MODIFIED:20251013T172441Z
UID:2823-1763060400-1763067600@carlisletheatre.org
SUMMARY:Songs of November: A Musical Benefit Supporting Cal’s Hope\, Honoring Matthew Robinson
DESCRIPTION:Songs of November: A Musical Benefit Supporting Cal’s Hope\, Honoring Matthew Robinson\nA suggested donation of $20 or more at the door is requested to support this important mission and all funds donated to the theatre will go directly to Cal’s Hope. Donations will collected at the door — all forms of payment accepted. \nThursday\, November 13 @ 7:00pm\n*claim your free ticket online to let us know you’re coming. Donations collected at the door.\n \nThis memorable and moving evening will feature live performances by top musicians & vocalists in the region who have worked alongside Matthew for years to support the mission of Cal’s Hope\, as the community collaborates to raise money for suicide prevention and awareness\, establishing a scholarship through Cal’s Hope in memory of Matthew Robinson. \nThe evening will also include professional speakers\, regional personalities\, special group performances\, and additional video segments for a meaningful mission as we honor the life of Matthew Robinson. Whether you’re a longtime supporter or new to the cause\, this is an opportunity to support Matthew’s family\, the mission of Cal’s Hope\, keeping arts alive at your local theatre\, and supporting suicide prevention awareness in our community. \n[Produced by the Carlisle Theatre. Sponsored by Cal’s Hope\, Brownhaven Photography\, LLC & community friends.]
URL:https://carlisletheatre.org/event/songsofnovember/
LOCATION:Carlisle Theatre\, 40 W High St\, Carlisle\, PA\, 17013\, United States
CATEGORIES:Players on High
ATTACH;FMTTYPE=image/jpeg:https://carlisletheatre.org/wp-content/uploads/2025/10/IMG_3528.jpeg
END:VEVENT
END:VCALENDAR