BEGIN:VCALENDAR
VERSION:2.0
PRODID:-//Carlisle Theatre - ECPv6.15.20//NONSGML v1.0//EN
CALSCALE:GREGORIAN
METHOD:PUBLISH
X-WR-CALNAME:Carlisle Theatre
X-ORIGINAL-URL:https://carlisletheatre.org
X-WR-CALDESC:Events for Carlisle Theatre
REFRESH-INTERVAL;VALUE=DURATION:PT1H
X-Robots-Tag:noindex
X-PUBLISHED-TTL:PT1H
BEGIN:VTIMEZONE
TZID:America/Detroit
BEGIN:DAYLIGHT
TZOFFSETFROM:-0500
TZOFFSETTO:-0400
TZNAME:EDT
DTSTART:20240310T070000
END:DAYLIGHT
BEGIN:STANDARD
TZOFFSETFROM:-0400
TZOFFSETTO:-0500
TZNAME:EST
DTSTART:20241103T060000
END:STANDARD
BEGIN:DAYLIGHT
TZOFFSETFROM:-0500
TZOFFSETTO:-0400
TZNAME:EDT
DTSTART:20250309T070000
END:DAYLIGHT
BEGIN:STANDARD
TZOFFSETFROM:-0400
TZOFFSETTO:-0500
TZNAME:EST
DTSTART:20251102T060000
END:STANDARD
BEGIN:DAYLIGHT
TZOFFSETFROM:-0500
TZOFFSETTO:-0400
TZNAME:EDT
DTSTART:20260308T070000
END:DAYLIGHT
BEGIN:STANDARD
TZOFFSETFROM:-0400
TZOFFSETTO:-0500
TZNAME:EST
DTSTART:20261101T060000
END:STANDARD
END:VTIMEZONE
BEGIN:VEVENT
DTSTART;VALUE=DATE:20250903
DTEND;VALUE=DATE:20250908
DTSTAMP:20260421T191100
CREATED:20250802T013208Z
LAST-MODIFIED:20250802T013247Z
UID:2650-1756857600-1757289599@carlisletheatre.org
SUMMARY:Songs for a New World
DESCRIPTION:Songs For A New World\nMusic & Lyrics by Jason Robert Brown\npresented by Players on High at the Carlisle Theatre\nDirected by Anna Palese | Music Direction by Maddie Felix.\n2 Hour Run-Time | Rated PG-13\n \nWednesday\, September 3 @ 7:30pm\nThursday\, September 4 @ 7:30pm\nFriday\, September 5 @ 7:30pm\nSaturday\, September 6 @ 2:00pm & 7:30pm\nSunday\, September 7 @ 2:00pm \n“It’s about one moment. It’s about hitting the wall and having to make a choice… or take a stand… or turn around and go back. These are the stories and characters of today\, the Songs for a New World. The first musical from Tony Award winner\, Jason Robert Brown (Parade\, Bridges of Madison County)\, this moving collection of powerful songs examines life\, love and the choices that we make. Brown transports his audience from the deck of a 1492 Spanish sailing ship to a ledge\, 57 stories above Fifth Avenue\, to meet a startling array of characters that range from a young man who has determined that basketball is his ticket out of the ghetto to a woman whose dream of marrying rich nabs her the man of her dreams… and a soulless marriage.” \nFeaturing: Bernie Labuskes\, Jess Teter\, Manny Wilson\, Elyse Rinehart\, Joseph Kemprowski\, Kelsey Sheffe\, Tara Mead \n[Songs for a New World is presented through special arrangments with Music Theatre International (MTI). All authorized performance materials are also supplied by MTI. www.MTI.com. No refunds. Exchanges permitted if seating is available at the discretion of theatre. For seating options to fit your needs\, please reach out to ticketing@carlisletheatre.] \n 
URL:https://carlisletheatre.org/event/songsforanewworld/
LOCATION:Carlisle Theatre\, 40 W High St\, Carlisle\, PA\, 17013\, United States
CATEGORIES:Players on High
ATTACH;FMTTYPE=image/png:https://carlisletheatre.org/wp-content/uploads/2025/08/2526-Website-Squares-1.png
END:VEVENT
END:VCALENDAR