BEGIN:VCALENDAR
VERSION:2.0
PRODID:-//Carlisle Theatre - ECPv6.15.20//NONSGML v1.0//EN
CALSCALE:GREGORIAN
METHOD:PUBLISH
X-WR-CALNAME:Carlisle Theatre
X-ORIGINAL-URL:https://carlisletheatre.org
X-WR-CALDESC:Events for Carlisle Theatre
REFRESH-INTERVAL;VALUE=DURATION:PT1H
X-Robots-Tag:noindex
X-PUBLISHED-TTL:PT1H
BEGIN:VTIMEZONE
TZID:America/Detroit
BEGIN:DAYLIGHT
TZOFFSETFROM:-0500
TZOFFSETTO:-0400
TZNAME:EDT
DTSTART:20240310T070000
END:DAYLIGHT
BEGIN:STANDARD
TZOFFSETFROM:-0400
TZOFFSETTO:-0500
TZNAME:EST
DTSTART:20241103T060000
END:STANDARD
BEGIN:DAYLIGHT
TZOFFSETFROM:-0500
TZOFFSETTO:-0400
TZNAME:EDT
DTSTART:20250309T070000
END:DAYLIGHT
BEGIN:STANDARD
TZOFFSETFROM:-0400
TZOFFSETTO:-0500
TZNAME:EST
DTSTART:20251102T060000
END:STANDARD
BEGIN:DAYLIGHT
TZOFFSETFROM:-0500
TZOFFSETTO:-0400
TZNAME:EDT
DTSTART:20260308T070000
END:DAYLIGHT
BEGIN:STANDARD
TZOFFSETFROM:-0400
TZOFFSETTO:-0500
TZNAME:EST
DTSTART:20261101T060000
END:STANDARD
END:VTIMEZONE
BEGIN:VEVENT
DTSTART;TZID=America/Detroit:20250416T200000
DTEND;TZID=America/Detroit:20250416T230000
DTSTAMP:20260424T045845
CREATED:20250203T151907Z
LAST-MODIFIED:20250219T204557Z
UID:1837-1744833600-1744844400@carlisletheatre.org
SUMMARY:Randy Houser ft. Lil’ Skinny
DESCRIPTION:Randy Houser\nft. special guest Lil’ Skinny\nWednesday\, April 16 @ 8PM\nPresented by Advanced Solution \nWith an inimitable voice The New York Times describes as “wholly different\, thicker and more throbbing\, a caldron bubbling over\,” Randy Houser has racked up over half a dozen hits and 1 billion streams. His How Country Feels album topped the charts with the title track\, “Runnin’ Outta Moonlight” and “Goodnight Kiss” (also his first No. 1 as a songwriter) and earned critical acclaim for his powerful delivery of the Top 5 smash and nominated CMA Song of the Year\, “Like A Cowboy.” Houser has since added a fourth No. 1 to his catalogue with “We Went” from his 2016 album\, Fired Up. Houser’s sixth studio album Note To Self is available now via Magnolia Music Group and features 10 tracks all co-written by the Mississippi native\, with his lead single and title track “Note To Self” marking his “powerful return” following 2019’s critically-acclaimed album Magnolia. In their response to Houser’s latest project\, MusicRow boasted the Mississippi-native “remains one of country music’s very finest vocalists.” With multiple sold-out shows in 2023\, including an at-capacity stop at Nashville’s Ryman Auditorium\, Houser wrapped 12 months of touring with Cody Johnson. In late 2023\, he landed on-screen roles in Martin Scorsese’s acclaimed film “Killers of the Flower Moon” starring Leonardo DiCaprio and Robert De Niro\, as well as Dennis Quaid’s “The Hill”\, an inspirational drama that hailed as the number one most streamed Netflix movie in February 2024. This April\, Billboard-lauded “golden-voiced Mississippi native” Houser released his new single “Country Back”\, a full throttle proclamation of all things country. \nFor more information\, go to RandyHouser.com.
URL:https://carlisletheatre.org/event/randyhouser/
LOCATION:Carlisle Theatre\, 40 W High St\, Carlisle\, PA\, 17013\, United States
CATEGORIES:Concerts / Events
ATTACH;FMTTYPE=image/png:https://carlisletheatre.org/wp-content/uploads/2025/01/PianoMen_4.18-3.png
END:VEVENT
END:VCALENDAR