BEGIN:VCALENDAR
VERSION:2.0
PRODID:-//Carlisle Theatre - ECPv6.15.20//NONSGML v1.0//EN
CALSCALE:GREGORIAN
METHOD:PUBLISH
X-WR-CALNAME:Carlisle Theatre
X-ORIGINAL-URL:https://carlisletheatre.org
X-WR-CALDESC:Events for Carlisle Theatre
REFRESH-INTERVAL;VALUE=DURATION:PT1H
X-Robots-Tag:noindex
X-PUBLISHED-TTL:PT1H
BEGIN:VTIMEZONE
TZID:America/Detroit
BEGIN:DAYLIGHT
TZOFFSETFROM:-0500
TZOFFSETTO:-0400
TZNAME:EDT
DTSTART:20240310T070000
END:DAYLIGHT
BEGIN:STANDARD
TZOFFSETFROM:-0400
TZOFFSETTO:-0500
TZNAME:EST
DTSTART:20241103T060000
END:STANDARD
BEGIN:DAYLIGHT
TZOFFSETFROM:-0500
TZOFFSETTO:-0400
TZNAME:EDT
DTSTART:20250309T070000
END:DAYLIGHT
BEGIN:STANDARD
TZOFFSETFROM:-0400
TZOFFSETTO:-0500
TZNAME:EST
DTSTART:20251102T060000
END:STANDARD
BEGIN:DAYLIGHT
TZOFFSETFROM:-0500
TZOFFSETTO:-0400
TZNAME:EDT
DTSTART:20260308T070000
END:DAYLIGHT
BEGIN:STANDARD
TZOFFSETFROM:-0400
TZOFFSETTO:-0500
TZNAME:EST
DTSTART:20261101T060000
END:STANDARD
END:VTIMEZONE
BEGIN:VEVENT
DTSTART;TZID=America/Detroit:20250924T190000
DTEND;TZID=America/Detroit:20250924T210000
DTSTAMP:20260421T172404
CREATED:20250802T011501Z
LAST-MODIFIED:20250802T011501Z
UID:2648-1758740400-1758747600@carlisletheatre.org
SUMMARY:Classic Wednesdays: A Raisin in the Sun
DESCRIPTION:Classic Wednesday: A Raisin in the Sun\nNot Rated | Drama | 2h 8m | 1961\nSeeking Sponsorship – films@carlisletheatre.org \nWednesday\, September 24 @ 7:00pm \nStarring Sidney Poitier and Ruby Dee\, this lauded drama follows the Youngers\, a family living in a cramped Chicago apartment\, whi try to decide what to do with the substantial insurance payment they will receive from the death of their. patriarch. Based on Lorraine Hansberry’s acclaimed Broadway play of the same name.
URL:https://carlisletheatre.org/event/raisininthesun/
LOCATION:Carlisle Theatre\, 40 W High St\, Carlisle\, PA\, 17013\, United States
CATEGORIES:Hollywood on High
ATTACH;FMTTYPE=image/png:https://carlisletheatre.org/wp-content/uploads/2025/08/2526-Website-Squares.zip-ARaisinintheSun.png
END:VEVENT
END:VCALENDAR