BEGIN:VCALENDAR
VERSION:2.0
PRODID:-//Carlisle Theatre - ECPv6.15.20//NONSGML v1.0//EN
CALSCALE:GREGORIAN
METHOD:PUBLISH
X-WR-CALNAME:Carlisle Theatre
X-ORIGINAL-URL:https://carlisletheatre.org
X-WR-CALDESC:Events for Carlisle Theatre
REFRESH-INTERVAL;VALUE=DURATION:PT1H
X-Robots-Tag:noindex
X-PUBLISHED-TTL:PT1H
BEGIN:VTIMEZONE
TZID:America/Detroit
BEGIN:DAYLIGHT
TZOFFSETFROM:-0500
TZOFFSETTO:-0400
TZNAME:EDT
DTSTART:20240310T070000
END:DAYLIGHT
BEGIN:STANDARD
TZOFFSETFROM:-0400
TZOFFSETTO:-0500
TZNAME:EST
DTSTART:20241103T060000
END:STANDARD
BEGIN:DAYLIGHT
TZOFFSETFROM:-0500
TZOFFSETTO:-0400
TZNAME:EDT
DTSTART:20250309T070000
END:DAYLIGHT
BEGIN:STANDARD
TZOFFSETFROM:-0400
TZOFFSETTO:-0500
TZNAME:EST
DTSTART:20251102T060000
END:STANDARD
BEGIN:DAYLIGHT
TZOFFSETFROM:-0500
TZOFFSETTO:-0400
TZNAME:EDT
DTSTART:20260308T070000
END:DAYLIGHT
BEGIN:STANDARD
TZOFFSETFROM:-0400
TZOFFSETTO:-0500
TZNAME:EST
DTSTART:20261101T060000
END:STANDARD
END:VTIMEZONE
BEGIN:VEVENT
DTSTART;VALUE=DATE:20250302
DTEND;VALUE=DATE:20250303
DTSTAMP:20260424T064700
CREATED:20250301T032424Z
LAST-MODIFIED:20250301T032919Z
UID:2245-1740873600-1740959999@carlisletheatre.org
SUMMARY:Red Carpet Oscars Watch Party
DESCRIPTION:Red Carpet Oscars Watch Party\nPresented by Hollywood on High \nSunday\, March 2 | 6:00PM Doors | 7:00PM Screening Event \nWear a fancy outfit\, enjoy red carpet photo ops\, and cast your Oscars Ballot at the historic Carlisle Theatre for prizes! This is our second annual event ending our 2025 Oscars Film Series. Tickets are $15\, and can be purchased online or at the door! \n[This event is presented by Hollywood on High\, the film branch of the historic Carlisle Theatre.]
URL:https://carlisletheatre.org/event/oscars2025/
LOCATION:Carlisle Theatre\, 40 W High St\, Carlisle\, PA\, 17013\, United States
CATEGORIES:Hollywood on High
ATTACH;FMTTYPE=image/png:https://carlisletheatre.org/wp-content/uploads/2025/02/OscarWatchPartyWeb.png
END:VEVENT
END:VCALENDAR