BEGIN:VCALENDAR
VERSION:2.0
PRODID:-//Carlisle Theatre - ECPv6.15.20//NONSGML v1.0//EN
CALSCALE:GREGORIAN
METHOD:PUBLISH
X-WR-CALNAME:Carlisle Theatre
X-ORIGINAL-URL:https://carlisletheatre.org
X-WR-CALDESC:Events for Carlisle Theatre
REFRESH-INTERVAL;VALUE=DURATION:PT1H
X-Robots-Tag:noindex
X-PUBLISHED-TTL:PT1H
BEGIN:VTIMEZONE
TZID:America/Detroit
BEGIN:DAYLIGHT
TZOFFSETFROM:-0500
TZOFFSETTO:-0400
TZNAME:EDT
DTSTART:20240310T070000
END:DAYLIGHT
BEGIN:STANDARD
TZOFFSETFROM:-0400
TZOFFSETTO:-0500
TZNAME:EST
DTSTART:20241103T060000
END:STANDARD
BEGIN:DAYLIGHT
TZOFFSETFROM:-0500
TZOFFSETTO:-0400
TZNAME:EDT
DTSTART:20250309T070000
END:DAYLIGHT
BEGIN:STANDARD
TZOFFSETFROM:-0400
TZOFFSETTO:-0500
TZNAME:EST
DTSTART:20251102T060000
END:STANDARD
BEGIN:DAYLIGHT
TZOFFSETFROM:-0500
TZOFFSETTO:-0400
TZNAME:EDT
DTSTART:20260308T070000
END:DAYLIGHT
BEGIN:STANDARD
TZOFFSETFROM:-0400
TZOFFSETTO:-0500
TZNAME:EST
DTSTART:20261101T060000
END:STANDARD
END:VTIMEZONE
BEGIN:VEVENT
DTSTART;TZID=America/Detroit:20250910T190000
DTEND;TZID=America/Detroit:20250910T210000
DTSTAMP:20260421T185954
CREATED:20250802T004117Z
LAST-MODIFIED:20250802T004724Z
UID:2593-1757530800-1757538000@carlisletheatre.org
SUMMARY:Classic Wednesdays: Ordinary People
DESCRIPTION:Summer Blockbuster Series: Ordinary People\nRated R | Drama | 2h 4m | 1980\nSeeking Sponsorship – films@carlisletheatre.org \nWednesday\, September 10 @ 7:00pm \nDirected by Robert Redford and winner of 4 Oscars\, including Best Picture\, this powerful drama follows the disintegration of a wealthy family following the accidental death of one their two sons and an attempted suicide of the other. Starring Donald sutherland\, Mary Tyler Moore\, Judd Hirsch\, and Timothy Hutton.
URL:https://carlisletheatre.org/event/ordinarypeople/
LOCATION:Carlisle Theatre\, 40 W High St\, Carlisle\, PA\, 17013\, United States
CATEGORIES:Hollywood on High
ATTACH;FMTTYPE=image/png:https://carlisletheatre.org/wp-content/uploads/2025/08/2526-Website-Squares.zip-OrdinaryPeople.png
END:VEVENT
END:VCALENDAR