BEGIN:VCALENDAR
VERSION:2.0
PRODID:-//Carlisle Theatre - ECPv6.15.20//NONSGML v1.0//EN
CALSCALE:GREGORIAN
METHOD:PUBLISH
X-WR-CALNAME:Carlisle Theatre
X-ORIGINAL-URL:https://carlisletheatre.org
X-WR-CALDESC:Events for Carlisle Theatre
REFRESH-INTERVAL;VALUE=DURATION:PT1H
X-Robots-Tag:noindex
X-PUBLISHED-TTL:PT1H
BEGIN:VTIMEZONE
TZID:America/Detroit
BEGIN:DAYLIGHT
TZOFFSETFROM:-0500
TZOFFSETTO:-0400
TZNAME:EDT
DTSTART:20240310T070000
END:DAYLIGHT
BEGIN:STANDARD
TZOFFSETFROM:-0400
TZOFFSETTO:-0500
TZNAME:EST
DTSTART:20241103T060000
END:STANDARD
BEGIN:DAYLIGHT
TZOFFSETFROM:-0500
TZOFFSETTO:-0400
TZNAME:EDT
DTSTART:20250309T070000
END:DAYLIGHT
BEGIN:STANDARD
TZOFFSETFROM:-0400
TZOFFSETTO:-0500
TZNAME:EST
DTSTART:20251102T060000
END:STANDARD
BEGIN:DAYLIGHT
TZOFFSETFROM:-0500
TZOFFSETTO:-0400
TZNAME:EDT
DTSTART:20260308T070000
END:DAYLIGHT
BEGIN:STANDARD
TZOFFSETFROM:-0400
TZOFFSETTO:-0500
TZNAME:EST
DTSTART:20261101T060000
END:STANDARD
END:VTIMEZONE
BEGIN:VEVENT
DTSTART;TZID=America/Detroit:20250716T190000
DTEND;TZID=America/Detroit:20250716T210000
DTSTAMP:20260421T204648
CREATED:20250603T173722Z
LAST-MODIFIED:20250603T174825Z
UID:2461-1752692400-1752699600@carlisletheatre.org
SUMMARY:Summer Horror Film Series: The Night of the Living Dead
DESCRIPTION:The Night of Living Dead\nRated R | Horror/Creature | 1h 22m | 1968\nSponsored by Crystal Oakman\nCo-Produced by Sanguine Macabre \nWednesday\, July 16 @ 7:00pm \nGeorge Romero broke ground in so many ways with this classic zombie masterpiece. Filmed entirely in western PA\, the story covers a group of strangers who find refuge in an isolated farmhouse from a slow-moving horde of flesh-eaters. “They’re coming to get you\, Barbara!”
URL:https://carlisletheatre.org/event/livingdead/
LOCATION:Carlisle Theatre\, 40 W High St\, Carlisle\, PA\, 17013\, United States
CATEGORIES:Hollywood on High
ATTACH;FMTTYPE=image/png:https://carlisletheatre.org/wp-content/uploads/2025/06/WebsiteSquares.zip-LivingDead_Web.png
END:VEVENT
END:VCALENDAR