BEGIN:VCALENDAR
VERSION:2.0
PRODID:-//Carlisle Theatre - ECPv6.15.20//NONSGML v1.0//EN
CALSCALE:GREGORIAN
METHOD:PUBLISH
X-WR-CALNAME:Carlisle Theatre
X-ORIGINAL-URL:https://carlisletheatre.org
X-WR-CALDESC:Events for Carlisle Theatre
REFRESH-INTERVAL;VALUE=DURATION:PT1H
X-Robots-Tag:noindex
X-PUBLISHED-TTL:PT1H
BEGIN:VTIMEZONE
TZID:America/Detroit
BEGIN:DAYLIGHT
TZOFFSETFROM:-0500
TZOFFSETTO:-0400
TZNAME:EDT
DTSTART:20240310T070000
END:DAYLIGHT
BEGIN:STANDARD
TZOFFSETFROM:-0400
TZOFFSETTO:-0500
TZNAME:EST
DTSTART:20241103T060000
END:STANDARD
BEGIN:DAYLIGHT
TZOFFSETFROM:-0500
TZOFFSETTO:-0400
TZNAME:EDT
DTSTART:20250309T070000
END:DAYLIGHT
BEGIN:STANDARD
TZOFFSETFROM:-0400
TZOFFSETTO:-0500
TZNAME:EST
DTSTART:20251102T060000
END:STANDARD
BEGIN:DAYLIGHT
TZOFFSETFROM:-0500
TZOFFSETTO:-0400
TZNAME:EDT
DTSTART:20260308T070000
END:DAYLIGHT
BEGIN:STANDARD
TZOFFSETFROM:-0400
TZOFFSETTO:-0500
TZNAME:EST
DTSTART:20261101T060000
END:STANDARD
END:VTIMEZONE
BEGIN:VEVENT
DTSTART;VALUE=DATE:20250301
DTEND;VALUE=DATE:20250303
DTSTAMP:20260424T081102
CREATED:20250220T192132Z
LAST-MODIFIED:20250220T193215Z
UID:2209-1740787200-1740959999@carlisletheatre.org
SUMMARY:Kyle Purnell LIVE
DESCRIPTION:Kyle Purnell LIVE\nSleight of Hand\, Nationally Featured Magician\npresented by the Carlisle Theatre & Kyle Purnell\nSaturday\, March 1 @ 7:30PM & Sunday\, March 2 @ 2:00PM \n“We’ve Never Seen Anything Like It!” – Penn & Teller \nJoin local sleight of hand expert Kyle Purnell as he guides you through 60 thrilling minutes of magical nonsense and beautiful impossibility! Be prepared to not just watch\, but be an integral part of this one of a kind engaging and intimate magic show. Watch impossible feats be done inches from your face that you won’t see anywhere else\, and make memories that will not soon forget! \nArtist Bio: After studying\, practicing\, creating\, and performing sleight of hand close up magic for over 20 years\, Kyle Purnell has established himself as one of the country’s foremost strolling and table side magicians. In his performance you will see original and unique magic. In fact\, many of Kyle’s creations have been praised and respected by some of the best magicians in the world including Penn and Teller\, Dan White\, Michael Ammar\, and Shin Lim. Kyle performances have taken him across the country and world performing at conventions\, corporate events\, the Chicago Magic Lounge\, and even Penn and Teller’s hit TV show Fool Us\, always giving attendees an experience and memories that they won’t soon forget.
URL:https://carlisletheatre.org/event/kyle-purnell-live/
LOCATION:Carlisle Theatre\, 40 W High St\, Carlisle\, PA\, 17013\, United States
CATEGORIES:Concerts / Events
ATTACH;FMTTYPE=image/jpeg:https://carlisletheatre.org/wp-content/uploads/2025/02/RESIZED_WEB_IMAGES_ALL.jpeg
END:VEVENT
END:VCALENDAR