BEGIN:VCALENDAR
VERSION:2.0
PRODID:-//Carlisle Theatre - ECPv6.15.20//NONSGML v1.0//EN
CALSCALE:GREGORIAN
METHOD:PUBLISH
X-WR-CALNAME:Carlisle Theatre
X-ORIGINAL-URL:https://carlisletheatre.org
X-WR-CALDESC:Events for Carlisle Theatre
REFRESH-INTERVAL;VALUE=DURATION:PT1H
X-Robots-Tag:noindex
X-PUBLISHED-TTL:PT1H
BEGIN:VTIMEZONE
TZID:America/Detroit
BEGIN:DAYLIGHT
TZOFFSETFROM:-0500
TZOFFSETTO:-0400
TZNAME:EDT
DTSTART:20230312T070000
END:DAYLIGHT
BEGIN:STANDARD
TZOFFSETFROM:-0400
TZOFFSETTO:-0500
TZNAME:EST
DTSTART:20231105T060000
END:STANDARD
BEGIN:DAYLIGHT
TZOFFSETFROM:-0500
TZOFFSETTO:-0400
TZNAME:EDT
DTSTART:20240310T070000
END:DAYLIGHT
BEGIN:STANDARD
TZOFFSETFROM:-0400
TZOFFSETTO:-0500
TZNAME:EST
DTSTART:20241103T060000
END:STANDARD
BEGIN:DAYLIGHT
TZOFFSETFROM:-0500
TZOFFSETTO:-0400
TZNAME:EDT
DTSTART:20250309T070000
END:DAYLIGHT
BEGIN:STANDARD
TZOFFSETFROM:-0400
TZOFFSETTO:-0500
TZNAME:EST
DTSTART:20251102T060000
END:STANDARD
END:VTIMEZONE
BEGIN:VEVENT
DTSTART;TZID=America/Detroit:20241220T193000
DTEND;TZID=America/Detroit:20241220T230000
DTSTAMP:20260424T101132
CREATED:20240829T144713Z
LAST-MODIFIED:20241010T162153Z
UID:1611-1734723000-1734735600@carlisletheatre.org
SUMMARY:The John Denver Tribute Christmas Concert with Chris Collins & Boulder Canyon
DESCRIPTION:The John Denver Tribute Christmas Concert with Chris Collins and Boulder Canyon\nShow Date | Friday\, December 20\, 2024 @ 7:30PM \nCelebrate the joy\, magic and memories of Christmas with The John Denver Tribute Christmas Concert! Award-winning international artists Chris Collins and Boulder Canyon will treat audiences at the Carlisle Theatre  to classic John Denver songs such as Rocky Mountain High\, Take Me Home\, Country Roads\, Sunshine on My Shoulders\, and many more along with holiday favorites. Reminiscent of John Denver’s popular Christmas concerts and holiday specials\, Chris Collins and Boulder Canyon have been delighting audiences in an acclaimed holiday show that is on everyone’s Christmas list! \nWebsite:  www.johndenvertributeband.com \n 
URL:https://carlisletheatre.org/event/johndenverchristmas/
LOCATION:Carlisle Theatre\, 40 W High St\, Carlisle\, PA\, 17013\, United States
CATEGORIES:Concerts / Events
ATTACH;FMTTYPE=image/jpeg:https://carlisletheatre.org/wp-content/uploads/2024/08/IMG_1597-scaled.jpeg
END:VEVENT
END:VCALENDAR