BEGIN:VCALENDAR
VERSION:2.0
PRODID:-//Carlisle Theatre - ECPv6.15.20//NONSGML v1.0//EN
CALSCALE:GREGORIAN
METHOD:PUBLISH
X-WR-CALNAME:Carlisle Theatre
X-ORIGINAL-URL:https://carlisletheatre.org
X-WR-CALDESC:Events for Carlisle Theatre
REFRESH-INTERVAL;VALUE=DURATION:PT1H
X-Robots-Tag:noindex
X-PUBLISHED-TTL:PT1H
BEGIN:VTIMEZONE
TZID:America/Detroit
BEGIN:DAYLIGHT
TZOFFSETFROM:-0500
TZOFFSETTO:-0400
TZNAME:EDT
DTSTART:20240310T070000
END:DAYLIGHT
BEGIN:STANDARD
TZOFFSETFROM:-0400
TZOFFSETTO:-0500
TZNAME:EST
DTSTART:20241103T060000
END:STANDARD
BEGIN:DAYLIGHT
TZOFFSETFROM:-0500
TZOFFSETTO:-0400
TZNAME:EDT
DTSTART:20250309T070000
END:DAYLIGHT
BEGIN:STANDARD
TZOFFSETFROM:-0400
TZOFFSETTO:-0500
TZNAME:EST
DTSTART:20251102T060000
END:STANDARD
BEGIN:DAYLIGHT
TZOFFSETFROM:-0500
TZOFFSETTO:-0400
TZNAME:EDT
DTSTART:20260308T070000
END:DAYLIGHT
BEGIN:STANDARD
TZOFFSETFROM:-0400
TZOFFSETTO:-0500
TZNAME:EST
DTSTART:20261101T060000
END:STANDARD
END:VTIMEZONE
BEGIN:VEVENT
DTSTART;TZID=America/Detroit:20250914T140000
DTEND;TZID=America/Detroit:20250914T160000
DTSTAMP:20260421T185823
CREATED:20250802T005228Z
LAST-MODIFIED:20250802T005948Z
UID:2633-1757858400-1757865600@carlisletheatre.org
SUMMARY:Shipwreck September: JAWS (50th Anniversary)
DESCRIPTION:Shipwreck September: JAWS (50th Anniversary)\nRated PG | Action | 2h 10m | 1975\nSeries Sponsored by Rogue Duck Hospitality \nSunday\, September 14 @ 2:00pm \nCelebrate the 50th Anniversary of this ultimate “Creature Feature.” Winner of 3 Oscars\, including Best Picture\, the story follows a massive killer shark that creates chaos in the beach community of Amity. It’s up to the local sheriff\, a geeky scientist\, and a hard boiled fisherman named Quint to save the summer!
URL:https://carlisletheatre.org/event/jaws/
LOCATION:Carlisle Theatre\, 40 W High St\, Carlisle\, PA\, 17013\, United States
CATEGORIES:Hollywood on High
ATTACH;FMTTYPE=image/png:https://carlisletheatre.org/wp-content/uploads/2025/08/2526-Website-Squares.zip-Jaws.png
END:VEVENT
END:VCALENDAR