BEGIN:VCALENDAR
VERSION:2.0
PRODID:-//Carlisle Theatre - ECPv6.15.20//NONSGML v1.0//EN
CALSCALE:GREGORIAN
METHOD:PUBLISH
X-WR-CALNAME:Carlisle Theatre
X-ORIGINAL-URL:https://carlisletheatre.org
X-WR-CALDESC:Events for Carlisle Theatre
REFRESH-INTERVAL;VALUE=DURATION:PT1H
X-Robots-Tag:noindex
X-PUBLISHED-TTL:PT1H
BEGIN:VTIMEZONE
TZID:America/Detroit
BEGIN:DAYLIGHT
TZOFFSETFROM:-0500
TZOFFSETTO:-0400
TZNAME:EDT
DTSTART:20240310T070000
END:DAYLIGHT
BEGIN:STANDARD
TZOFFSETFROM:-0400
TZOFFSETTO:-0500
TZNAME:EST
DTSTART:20241103T060000
END:STANDARD
BEGIN:DAYLIGHT
TZOFFSETFROM:-0500
TZOFFSETTO:-0400
TZNAME:EDT
DTSTART:20250309T070000
END:DAYLIGHT
BEGIN:STANDARD
TZOFFSETFROM:-0400
TZOFFSETTO:-0500
TZNAME:EST
DTSTART:20251102T060000
END:STANDARD
BEGIN:DAYLIGHT
TZOFFSETFROM:-0500
TZOFFSETTO:-0400
TZNAME:EDT
DTSTART:20260308T070000
END:DAYLIGHT
BEGIN:STANDARD
TZOFFSETFROM:-0400
TZOFFSETTO:-0500
TZNAME:EST
DTSTART:20261101T060000
END:STANDARD
END:VTIMEZONE
BEGIN:VEVENT
DTSTART;TZID=America/Detroit:20251215T190000
DTEND;TZID=America/Detroit:20251215T210000
DTSTAMP:20260421T115218
CREATED:20251118T195947Z
LAST-MODIFIED:20251118T203411Z
UID:2935-1765825200-1765832400@carlisletheatre.org
SUMMARY:Home Alone
DESCRIPTION:Home Alone\nPG | Comedy | 1h 43m | 1990 \nMonday\, December 15 @ 7:00pm \nWhen bratty 8-year-old Kevin acts out before a family trip to Paris\, his mother makes him sleep in the attic. When the family leaves mistakenly without him\, Kevin awakens to an empty house. Two con men plan to rob the house and Kevin devises ingenious plans to protect the family home.
URL:https://carlisletheatre.org/event/home-alone/
LOCATION:Carlisle Theatre\, 40 W High St\, Carlisle\, PA\, 17013\, United States
CATEGORIES:Hollywood on High
ATTACH;FMTTYPE=image/webp:https://carlisletheatre.org/wp-content/uploads/2025/11/2526-Website-Squares-HomeAlone.webp
END:VEVENT
END:VCALENDAR