BEGIN:VCALENDAR
VERSION:2.0
PRODID:-//Carlisle Theatre - ECPv6.15.20//NONSGML v1.0//EN
CALSCALE:GREGORIAN
METHOD:PUBLISH
X-WR-CALNAME:Carlisle Theatre
X-ORIGINAL-URL:https://carlisletheatre.org
X-WR-CALDESC:Events for Carlisle Theatre
REFRESH-INTERVAL;VALUE=DURATION:PT1H
X-Robots-Tag:noindex
X-PUBLISHED-TTL:PT1H
BEGIN:VTIMEZONE
TZID:America/Detroit
BEGIN:DAYLIGHT
TZOFFSETFROM:-0500
TZOFFSETTO:-0400
TZNAME:EDT
DTSTART:20230312T070000
END:DAYLIGHT
BEGIN:STANDARD
TZOFFSETFROM:-0400
TZOFFSETTO:-0500
TZNAME:EST
DTSTART:20231105T060000
END:STANDARD
BEGIN:DAYLIGHT
TZOFFSETFROM:-0500
TZOFFSETTO:-0400
TZNAME:EDT
DTSTART:20240310T070000
END:DAYLIGHT
BEGIN:STANDARD
TZOFFSETFROM:-0400
TZOFFSETTO:-0500
TZNAME:EST
DTSTART:20241103T060000
END:STANDARD
BEGIN:DAYLIGHT
TZOFFSETFROM:-0500
TZOFFSETTO:-0400
TZNAME:EDT
DTSTART:20250309T070000
END:DAYLIGHT
BEGIN:STANDARD
TZOFFSETFROM:-0400
TZOFFSETTO:-0500
TZNAME:EST
DTSTART:20251102T060000
END:STANDARD
END:VTIMEZONE
BEGIN:VEVENT
DTSTART;TZID=America/Detroit:20241031T200000
DTEND;TZID=America/Detroit:20241031T230000
DTSTAMP:20260424T101753
CREATED:20241015T184911Z
LAST-MODIFIED:20241015T184911Z
UID:1719-1730404800-1730415600@carlisletheatre.org
SUMMARY:Halloween Dance Party ft. Hall Pass Hero
DESCRIPTION:Halloween Dance Party ft. Hall Pass Hero\nfeaturing Hall Pass Hero \nThursday\, October 31 | 8:00pm\n$15/ person | cash bar | cash/card concessions \n“Wear that costume you’ve been planning since last year\, and dance the night away with Hall Pass Hero. Event will offer photo ops\, cash bar\, concessions\, mood lit stage and live music & dancing!” \nThis is an 18+ event only. Refunds will not be given for tickets purchased guests under age. \n 
URL:https://carlisletheatre.org/event/halloween-dance-party/
LOCATION:Carlisle Theatre\, 40 W High St\, Carlisle\, PA\, 17013\, United States
CATEGORIES:Concerts / Events
ATTACH;FMTTYPE=image/png:https://carlisletheatre.org/wp-content/uploads/2024/10/Halloween-Dance-Party.png
END:VEVENT
END:VCALENDAR