BEGIN:VCALENDAR
VERSION:2.0
PRODID:-//Carlisle Theatre - ECPv6.15.20//NONSGML v1.0//EN
CALSCALE:GREGORIAN
METHOD:PUBLISH
X-WR-CALNAME:Carlisle Theatre
X-ORIGINAL-URL:https://carlisletheatre.org
X-WR-CALDESC:Events for Carlisle Theatre
REFRESH-INTERVAL;VALUE=DURATION:PT1H
X-Robots-Tag:noindex
X-PUBLISHED-TTL:PT1H
BEGIN:VTIMEZONE
TZID:America/Detroit
BEGIN:DAYLIGHT
TZOFFSETFROM:-0500
TZOFFSETTO:-0400
TZNAME:EDT
DTSTART:20240310T070000
END:DAYLIGHT
BEGIN:STANDARD
TZOFFSETFROM:-0400
TZOFFSETTO:-0500
TZNAME:EST
DTSTART:20241103T060000
END:STANDARD
BEGIN:DAYLIGHT
TZOFFSETFROM:-0500
TZOFFSETTO:-0400
TZNAME:EDT
DTSTART:20250309T070000
END:DAYLIGHT
BEGIN:STANDARD
TZOFFSETFROM:-0400
TZOFFSETTO:-0500
TZNAME:EST
DTSTART:20251102T060000
END:STANDARD
BEGIN:DAYLIGHT
TZOFFSETFROM:-0500
TZOFFSETTO:-0400
TZNAME:EDT
DTSTART:20260308T070000
END:DAYLIGHT
BEGIN:STANDARD
TZOFFSETFROM:-0400
TZOFFSETTO:-0500
TZNAME:EST
DTSTART:20261101T060000
END:STANDARD
END:VTIMEZONE
BEGIN:VEVENT
DTSTART;TZID=America/Detroit:20251027T190000
DTEND;TZID=America/Detroit:20251027T210000
DTSTAMP:20260421T154138
CREATED:20250915T204611Z
LAST-MODIFIED:20250915T211537Z
UID:2737-1761591600-1761598800@carlisletheatre.org
SUMMARY:Halloweek Film Series: Cabin in the Woods
DESCRIPTION:Halloweek Film Series: Cabin in the Woods\nR | Horror / Zombies | 1h 35m | 2011\nSeeking Sponsorship – films@carlisletheatre.org \nMonday\, October 27 @ 7:00pm \nCritics hail it as an astonishing meta-feat\, capable of being funny\, strange\, and scary — frequently all at the same time. When five college friends arrive at a remote forest cabin for a little vacation\, little do they expect the horrors that await them. One by one\, the youths fall victim to backwoods zombies\, but there is another factor at play. Two scientists are manipulating the ghoulish goings-on\, but even as the body count rises\, there is yet more at work than meets the eye.
URL:https://carlisletheatre.org/event/halloweek-film-series-cabin-in-the-woods/
LOCATION:Carlisle Theatre\, 40 W High St\, Carlisle\, PA\, 17013\, United States
CATEGORIES:Hollywood on High
ATTACH;FMTTYPE=image/webp:https://carlisletheatre.org/wp-content/uploads/2025/09/IMG_3435.webp
END:VEVENT
END:VCALENDAR