BEGIN:VCALENDAR
VERSION:2.0
PRODID:-//Carlisle Theatre - ECPv6.15.20//NONSGML v1.0//EN
CALSCALE:GREGORIAN
METHOD:PUBLISH
X-WR-CALNAME:Carlisle Theatre
X-ORIGINAL-URL:https://carlisletheatre.org
X-WR-CALDESC:Events for Carlisle Theatre
REFRESH-INTERVAL;VALUE=DURATION:PT1H
X-Robots-Tag:noindex
X-PUBLISHED-TTL:PT1H
BEGIN:VTIMEZONE
TZID:America/Detroit
BEGIN:DAYLIGHT
TZOFFSETFROM:-0500
TZOFFSETTO:-0400
TZNAME:EDT
DTSTART:20230312T070000
END:DAYLIGHT
BEGIN:STANDARD
TZOFFSETFROM:-0400
TZOFFSETTO:-0500
TZNAME:EST
DTSTART:20231105T060000
END:STANDARD
BEGIN:DAYLIGHT
TZOFFSETFROM:-0500
TZOFFSETTO:-0400
TZNAME:EDT
DTSTART:20240310T070000
END:DAYLIGHT
BEGIN:STANDARD
TZOFFSETFROM:-0400
TZOFFSETTO:-0500
TZNAME:EST
DTSTART:20241103T060000
END:STANDARD
BEGIN:DAYLIGHT
TZOFFSETFROM:-0500
TZOFFSETTO:-0400
TZNAME:EDT
DTSTART:20250309T070000
END:DAYLIGHT
BEGIN:STANDARD
TZOFFSETFROM:-0400
TZOFFSETTO:-0500
TZNAME:EST
DTSTART:20251102T060000
END:STANDARD
END:VTIMEZONE
BEGIN:VEVENT
DTSTART;TZID=America/Detroit:20240922T140000
DTEND;TZID=America/Detroit:20240922T160000
DTSTAMP:20260424T121455
CREATED:20240829T185320Z
LAST-MODIFIED:20241010T162235Z
UID:1623-1727013600-1727020800@carlisletheatre.org
SUMMARY:Film Event: WEST SIDE STORY (1961)
DESCRIPTION:Sunday\, September 22 @ 2:00PM\nSing Along Closed Captioning Provided\nDress up\, sing along\, & bring your best choreo. We are here for it. \n$7/Sunday Special Matinee | $5/Kids12 & Under  \n“A musical in which a modern day Romeo and Juliet are involved in New York street gangs. On the harsh streets of the upper west side\, two gangs battle for control of the turf. The situation becomes complicated when a gang members falls in love with a rival’s sister.”
URL:https://carlisletheatre.org/event/film-event-west-side-story-1961/
LOCATION:Carlisle Theatre\, 40 W High St\, Carlisle\, PA\, 17013\, United States
CATEGORIES:Hollywood on High
ATTACH;FMTTYPE=image/png:https://carlisletheatre.org/wp-content/uploads/2024/08/September-Film-Series-2024.zip-Wallace-and-GrommmitWoman.png
END:VEVENT
END:VCALENDAR