BEGIN:VCALENDAR
VERSION:2.0
PRODID:-//Carlisle Theatre - ECPv6.15.20//NONSGML v1.0//EN
CALSCALE:GREGORIAN
METHOD:PUBLISH
X-WR-CALNAME:Carlisle Theatre
X-ORIGINAL-URL:https://carlisletheatre.org
X-WR-CALDESC:Events for Carlisle Theatre
REFRESH-INTERVAL;VALUE=DURATION:PT1H
X-Robots-Tag:noindex
X-PUBLISHED-TTL:PT1H
BEGIN:VTIMEZONE
TZID:America/Detroit
BEGIN:DAYLIGHT
TZOFFSETFROM:-0500
TZOFFSETTO:-0400
TZNAME:EDT
DTSTART:20240310T070000
END:DAYLIGHT
BEGIN:STANDARD
TZOFFSETFROM:-0400
TZOFFSETTO:-0500
TZNAME:EST
DTSTART:20241103T060000
END:STANDARD
BEGIN:DAYLIGHT
TZOFFSETFROM:-0500
TZOFFSETTO:-0400
TZNAME:EDT
DTSTART:20250309T070000
END:DAYLIGHT
BEGIN:STANDARD
TZOFFSETFROM:-0400
TZOFFSETTO:-0500
TZNAME:EST
DTSTART:20251102T060000
END:STANDARD
BEGIN:DAYLIGHT
TZOFFSETFROM:-0500
TZOFFSETTO:-0400
TZNAME:EDT
DTSTART:20260308T070000
END:DAYLIGHT
BEGIN:STANDARD
TZOFFSETFROM:-0400
TZOFFSETTO:-0500
TZNAME:EST
DTSTART:20261101T060000
END:STANDARD
END:VTIMEZONE
BEGIN:VEVENT
DTSTART;TZID=America/Detroit:20250806T190000
DTEND;TZID=America/Detroit:20250806T203000
DTSTAMP:20260421T204020
CREATED:20250802T002310Z
LAST-MODIFIED:20250802T004038Z
UID:2605-1754506800-1754512200@carlisletheatre.org
SUMMARY:Classic Wednesdays: Father’s Little Dividend
DESCRIPTION:Classic Wednesdays: Father’s Little Dividend\nNot Rated | Comedy | 1h 22m | 1951\nSeeking Sponsorship – films@carlisletheatre.org\n \nWednesday\, August 6 @ 7:00pm \nIn this sequel to Father of the Bride (1950)\, Stanley Banks (Spencer Tracy) learns that his daughter Kay (Dame Elizabeth Taylor) is expecting a baby. When they get the news\, everyone except Stanley is overjoyed. A stellar cast leads this light-hearted award-winning comedy.
URL:https://carlisletheatre.org/event/fatherslittledividend/
LOCATION:Carlisle Theatre\, 40 W High St\, Carlisle\, PA\, 17013\, United States
CATEGORIES:Hollywood on High
ATTACH;FMTTYPE=image/png:https://carlisletheatre.org/wp-content/uploads/2025/08/2526-Website-Squares.zip-FathersLittleDividend.png
END:VEVENT
END:VCALENDAR