BEGIN:VCALENDAR
VERSION:2.0
PRODID:-//Carlisle Theatre - ECPv6.15.20//NONSGML v1.0//EN
CALSCALE:GREGORIAN
METHOD:PUBLISH
X-WR-CALNAME:Carlisle Theatre
X-ORIGINAL-URL:https://carlisletheatre.org
X-WR-CALDESC:Events for Carlisle Theatre
REFRESH-INTERVAL;VALUE=DURATION:PT1H
X-Robots-Tag:noindex
X-PUBLISHED-TTL:PT1H
BEGIN:VTIMEZONE
TZID:America/Detroit
BEGIN:DAYLIGHT
TZOFFSETFROM:-0500
TZOFFSETTO:-0400
TZNAME:EDT
DTSTART:20240310T070000
END:DAYLIGHT
BEGIN:STANDARD
TZOFFSETFROM:-0400
TZOFFSETTO:-0500
TZNAME:EST
DTSTART:20241103T060000
END:STANDARD
BEGIN:DAYLIGHT
TZOFFSETFROM:-0500
TZOFFSETTO:-0400
TZNAME:EDT
DTSTART:20250309T070000
END:DAYLIGHT
BEGIN:STANDARD
TZOFFSETFROM:-0400
TZOFFSETTO:-0500
TZNAME:EST
DTSTART:20251102T060000
END:STANDARD
BEGIN:DAYLIGHT
TZOFFSETFROM:-0500
TZOFFSETTO:-0400
TZNAME:EDT
DTSTART:20260308T070000
END:DAYLIGHT
BEGIN:STANDARD
TZOFFSETFROM:-0400
TZOFFSETTO:-0500
TZNAME:EST
DTSTART:20261101T060000
END:STANDARD
END:VTIMEZONE
BEGIN:VEVENT
DTSTART;TZID=America/Detroit:20251216T190000
DTEND;TZID=America/Detroit:20251216T210000
DTSTAMP:20260421T115154
CREATED:20251118T200258Z
LAST-MODIFIED:20251124T135749Z
UID:2937-1765911600-1765918800@carlisletheatre.org
SUMMARY:Elf
DESCRIPTION:Elf\nPG | Family / Comedy | 1h 37m | 2003\nSponsored by the Boiling Springs Lions Club \nTuesday\, December 16 @ 7:00pm \nBuddy the Elf (Will Ferrell) was raised to adulthood by Santa’s elves\, but he never fits in. So he travels to NYC to find his biological father\, and hilarity ensues. Supporting roles by James Caan\, Ed Asner\, Zoey Deschanel\, Mary Steenburgen\, Bob Newhart\, and Peter Dinklage.
URL:https://carlisletheatre.org/event/elf/
LOCATION:Carlisle Theatre\, 40 W High St\, Carlisle\, PA\, 17013\, United States
CATEGORIES:Hollywood on High
ATTACH;FMTTYPE=image/webp:https://carlisletheatre.org/wp-content/uploads/2025/11/2526-Website-Squares.webp
END:VEVENT
END:VCALENDAR