BEGIN:VCALENDAR
VERSION:2.0
PRODID:-//Carlisle Theatre - ECPv6.15.20//NONSGML v1.0//EN
CALSCALE:GREGORIAN
METHOD:PUBLISH
X-WR-CALNAME:Carlisle Theatre
X-ORIGINAL-URL:https://carlisletheatre.org
X-WR-CALDESC:Events for Carlisle Theatre
REFRESH-INTERVAL;VALUE=DURATION:PT1H
X-Robots-Tag:noindex
X-PUBLISHED-TTL:PT1H
BEGIN:VTIMEZONE
TZID:America/Detroit
BEGIN:DAYLIGHT
TZOFFSETFROM:-0500
TZOFFSETTO:-0400
TZNAME:EDT
DTSTART:20240310T070000
END:DAYLIGHT
BEGIN:STANDARD
TZOFFSETFROM:-0400
TZOFFSETTO:-0500
TZNAME:EST
DTSTART:20241103T060000
END:STANDARD
BEGIN:DAYLIGHT
TZOFFSETFROM:-0500
TZOFFSETTO:-0400
TZNAME:EDT
DTSTART:20250309T070000
END:DAYLIGHT
BEGIN:STANDARD
TZOFFSETFROM:-0400
TZOFFSETTO:-0500
TZNAME:EST
DTSTART:20251102T060000
END:STANDARD
BEGIN:DAYLIGHT
TZOFFSETFROM:-0500
TZOFFSETTO:-0400
TZNAME:EDT
DTSTART:20260308T070000
END:DAYLIGHT
BEGIN:STANDARD
TZOFFSETFROM:-0400
TZOFFSETTO:-0500
TZNAME:EST
DTSTART:20261101T060000
END:STANDARD
END:VTIMEZONE
BEGIN:VEVENT
DTSTART;VALUE=DATE:20251015
DTEND;VALUE=DATE:20251020
DTSTAMP:20260421T172232
CREATED:20250802T014525Z
LAST-MODIFIED:20250802T022833Z
UID:2653-1760486400-1760918399@carlisletheatre.org
SUMMARY:Dracula
DESCRIPTION:Dracula\nplay by Richard Sharp\npresented by Players on High at the Carlisle Theatre\nDirected by Ashley Shade Byerts & Debra Cornelius\n2 Hour Run-Time | Rated PG-13\n \nWednesday\, October 15 @ 7:30pm\nThursday\, October 16@ 7:30pm\nFriday\, October 17 @ 7:30pm\nSaturday\, October 18 @ 2:00pm & 7:30pm\nSunday\, October 19 @ 2:00pm \n“A Classic Retelling of Bram Stoker’s Famous Novel. Set in Europe at the end of the Victorian Age\, the story follows the famed vampire as he lusts for new blood. Come with us on a chilling journey this fall season with the traditional characters and an a dark ensemble of Nosferatu who linger & wait at every turn.” \nNo refunds. Exchanges permitted if seating is available at the discretion of theatre. For seating options to fit your needs\, please reach out to ticketing@carlisletheatre.] \n 
URL:https://carlisletheatre.org/event/dracula/
LOCATION:Carlisle Theatre\, 40 W High St\, Carlisle\, PA\, 17013\, United States
CATEGORIES:Players on High
ATTACH;FMTTYPE=image/png:https://carlisletheatre.org/wp-content/uploads/2025/08/2526-Website-Squares-2.png
END:VEVENT
END:VCALENDAR