BEGIN:VCALENDAR
VERSION:2.0
PRODID:-//Carlisle Theatre - ECPv6.15.20//NONSGML v1.0//EN
CALSCALE:GREGORIAN
METHOD:PUBLISH
X-WR-CALNAME:Carlisle Theatre
X-ORIGINAL-URL:https://carlisletheatre.org
X-WR-CALDESC:Events for Carlisle Theatre
REFRESH-INTERVAL;VALUE=DURATION:PT1H
X-Robots-Tag:noindex
X-PUBLISHED-TTL:PT1H
BEGIN:VTIMEZONE
TZID:America/Detroit
BEGIN:DAYLIGHT
TZOFFSETFROM:-0500
TZOFFSETTO:-0400
TZNAME:EDT
DTSTART:20230312T070000
END:DAYLIGHT
BEGIN:STANDARD
TZOFFSETFROM:-0400
TZOFFSETTO:-0500
TZNAME:EST
DTSTART:20231105T060000
END:STANDARD
BEGIN:DAYLIGHT
TZOFFSETFROM:-0500
TZOFFSETTO:-0400
TZNAME:EDT
DTSTART:20240310T070000
END:DAYLIGHT
BEGIN:STANDARD
TZOFFSETFROM:-0400
TZOFFSETTO:-0500
TZNAME:EST
DTSTART:20241103T060000
END:STANDARD
BEGIN:DAYLIGHT
TZOFFSETFROM:-0500
TZOFFSETTO:-0400
TZNAME:EDT
DTSTART:20250309T070000
END:DAYLIGHT
BEGIN:STANDARD
TZOFFSETFROM:-0400
TZOFFSETTO:-0500
TZNAME:EST
DTSTART:20251102T060000
END:STANDARD
END:VTIMEZONE
BEGIN:VEVENT
DTSTART;VALUE=DATE:20241014
DTEND;VALUE=DATE:20241021
DTSTAMP:20260424T121711
CREATED:20241010T155530Z
LAST-MODIFIED:20241011T195815Z
UID:1702-1728864000-1729468799@carlisletheatre.org
SUMMARY:AUDITIONS: A Steampunk Christmas Carol
DESCRIPTION:Audition Dates: October 14 & 15\nInvite Only Callbacks: October 16\nShows: December 6-15\nLocation: Carlisle Theatre Mainstage\, 40 W. High Street\, Carlisle\, PA \nPlease select only one day to attend\, and see audition & casting breakdown below.\nEmail director@carlisletheatre.org to let us know you’re attending.\nWalk ins welcome. Non-equity only. \nPlease also visit our Facebook event page and click the button to indicate that you are ‘going’. \nOctober 14 & 15:\n6:00-6:40PM | Children 12 & Under Only.\n6:50PM | Adults & Students Over 12. (All students under 16 years old must be accompanied by an adult in order to audition.)\n—Monologues welcome but not required. Sides will be provided. Be prepared to sing carols & participate in a movement audition.\n—Actors may be asked to play multiple roles.\n—This show requires heavy ensemble\, dance\, and movement work.\n—We encourage all genders\, ages\, races\, ethinicities\, and abilities to audition for all roles.\n—We love seeing headshots and resumes in advance\, but they are not required. An audition form will be provided at auditions for those without resumes. \nCASTING BREAKDOWN:\nEBENEZER SCROOGE: Male\, age 50+. A businessman.\nFRED: Male\, age late 20s or early 30s. Scrooge’s nephew.\nBOB CRATCHIT: Male\, age late 30s or early 40s. Scrooge’s clerk.\nMRS. CRATCHIT: Female\, age late 30s or early 40s.\nJACOB MARLEY: Male\, age 60+. A businessman\, deceased.\nGHOST OF CHRISTMAS PAST: Female\, child or adolescent in appearance. A spirit\, childlike and playful\, but commanding and stern when Scrooge does not follow her guidance.\nFEZZIWIG: Male\, age 40+. A businessman.\nMRS. FEZZIWIG: Female\, age 40+.\nGHOST OF CHRISTMAS PRESENT: Female\, age 50+. A spirit\, commanding\, bold\, able to play a range from vigorous and healthy to old and sickly.\nMRS. CRATCHIT: Female\, age late 30s or early 40s.\nGHOSTS OF CHRISTMAS FUTURE: Female\, ages 16+. Multiple actors playing a single character as a unit and individually. Movement/danced based stage work required.\nENSEMBLE ROLES: Dozens of featured speaking & group roles throughout Ebenezer’s journey. Actors may be asked to play up to 5 roles.
URL:https://carlisletheatre.org/event/auditions-a-steampunk-christmas-carol/
LOCATION:Carlisle Theatre\, 40 W High St\, Carlisle\, PA\, 17013\, United States
CATEGORIES:Players on High
ATTACH;FMTTYPE=image/webp:https://carlisletheatre.org/wp-content/uploads/2024/10/Steampunk.webp
END:VEVENT
END:VCALENDAR