BEGIN:VCALENDAR
VERSION:2.0
PRODID:-//Carlisle Theatre - ECPv6.15.20//NONSGML v1.0//EN
CALSCALE:GREGORIAN
METHOD:PUBLISH
X-WR-CALNAME:Carlisle Theatre
X-ORIGINAL-URL:https://carlisletheatre.org
X-WR-CALDESC:Events for Carlisle Theatre
REFRESH-INTERVAL;VALUE=DURATION:PT1H
X-Robots-Tag:noindex
X-PUBLISHED-TTL:PT1H
BEGIN:VTIMEZONE
TZID:America/Detroit
BEGIN:DAYLIGHT
TZOFFSETFROM:-0500
TZOFFSETTO:-0400
TZNAME:EDT
DTSTART:20240310T070000
END:DAYLIGHT
BEGIN:STANDARD
TZOFFSETFROM:-0400
TZOFFSETTO:-0500
TZNAME:EST
DTSTART:20241103T060000
END:STANDARD
BEGIN:DAYLIGHT
TZOFFSETFROM:-0500
TZOFFSETTO:-0400
TZNAME:EDT
DTSTART:20250309T070000
END:DAYLIGHT
BEGIN:STANDARD
TZOFFSETFROM:-0400
TZOFFSETTO:-0500
TZNAME:EST
DTSTART:20251102T060000
END:STANDARD
BEGIN:DAYLIGHT
TZOFFSETFROM:-0500
TZOFFSETTO:-0400
TZNAME:EDT
DTSTART:20260308T070000
END:DAYLIGHT
BEGIN:STANDARD
TZOFFSETFROM:-0400
TZOFFSETTO:-0500
TZNAME:EST
DTSTART:20261101T060000
END:STANDARD
END:VTIMEZONE
BEGIN:VEVENT
DTSTART;TZID=America/Detroit:20250813T190000
DTEND;TZID=America/Detroit:20250813T203000
DTSTAMP:20260421T190128
CREATED:20250802T002727Z
LAST-MODIFIED:20250802T004011Z
UID:2618-1755111600-1755117000@carlisletheatre.org
SUMMARY:Classic Wednesdays: Angel and the Badman
DESCRIPTION:Classic Wednesdays: Angel and the Badman\nNot Rated | Western | 1h 40m | 1947\nSeeking Sponsorship – films@carlisletheatre.org\n \nWednesday\, August 13 @ 7:00pm \nJohn Wayne stars as a cowboy who is injured and nursed back to health by a Quaker family. he falls for the daughter and his violent past catches up with him. Eventually he is forced to decide between his two lives.
URL:https://carlisletheatre.org/event/angelandthebadman/
LOCATION:Carlisle Theatre\, 40 W High St\, Carlisle\, PA\, 17013\, United States
CATEGORIES:Hollywood on High
ATTACH;FMTTYPE=image/png:https://carlisletheatre.org/wp-content/uploads/2025/08/2526-Website-Squares.zip-AngelandtheBandman.png
END:VEVENT
END:VCALENDAR