BEGIN:VCALENDAR
VERSION:2.0
PRODID:-//Carlisle Theatre - ECPv6.15.20//NONSGML v1.0//EN
CALSCALE:GREGORIAN
METHOD:PUBLISH
X-WR-CALNAME:Carlisle Theatre
X-ORIGINAL-URL:https://carlisletheatre.org
X-WR-CALDESC:Events for Carlisle Theatre
REFRESH-INTERVAL;VALUE=DURATION:PT1H
X-Robots-Tag:noindex
X-PUBLISHED-TTL:PT1H
BEGIN:VTIMEZONE
TZID:America/Detroit
BEGIN:DAYLIGHT
TZOFFSETFROM:-0500
TZOFFSETTO:-0400
TZNAME:EDT
DTSTART:20240310T070000
END:DAYLIGHT
BEGIN:STANDARD
TZOFFSETFROM:-0400
TZOFFSETTO:-0500
TZNAME:EST
DTSTART:20241103T060000
END:STANDARD
BEGIN:DAYLIGHT
TZOFFSETFROM:-0500
TZOFFSETTO:-0400
TZNAME:EDT
DTSTART:20250309T070000
END:DAYLIGHT
BEGIN:STANDARD
TZOFFSETFROM:-0400
TZOFFSETTO:-0500
TZNAME:EST
DTSTART:20251102T060000
END:STANDARD
BEGIN:DAYLIGHT
TZOFFSETFROM:-0500
TZOFFSETTO:-0400
TZNAME:EDT
DTSTART:20260308T070000
END:DAYLIGHT
BEGIN:STANDARD
TZOFFSETFROM:-0400
TZOFFSETTO:-0500
TZNAME:EST
DTSTART:20261101T060000
END:STANDARD
END:VTIMEZONE
BEGIN:VEVENT
DTSTART;TZID=America/Detroit:20250706T140000
DTEND;TZID=America/Detroit:20250706T160000
DTSTAMP:20260421T225322
CREATED:20250704T160623Z
LAST-MODIFIED:20250704T162948Z
UID:2504-1751810400-1751817600@carlisletheatre.org
SUMMARY:Summer Blockbuster Series: Alien (1979)
DESCRIPTION:Summer Blockbuster Series: Alien\nRated R | Sci-Fi | 2h 5m | 1979\nSponsored by Rogue Duck Hospitality \nSunday\, July 6 @ 2:00pm \nIn deep space\, the crew of a commercial starship is terrorized by an organism from an alien ship. Ridley Scott directs this multiple award winning film\, starring Sigourney Weaver as the heroic warrior against the monstrous creature.
URL:https://carlisletheatre.org/event/alien/
LOCATION:Carlisle Theatre\, 40 W High St\, Carlisle\, PA\, 17013\, United States
CATEGORIES:Hollywood on High
ATTACH;FMTTYPE=image/jpeg:https://carlisletheatre.org/wp-content/uploads/2025/07/WebsiteSquares-Alien_Website.jpeg
END:VEVENT
END:VCALENDAR