BEGIN:VCALENDAR
VERSION:2.0
PRODID:-//Carlisle Theatre - ECPv6.15.20//NONSGML v1.0//EN
CALSCALE:GREGORIAN
METHOD:PUBLISH
X-WR-CALNAME:Carlisle Theatre
X-ORIGINAL-URL:https://carlisletheatre.org
X-WR-CALDESC:Events for Carlisle Theatre
REFRESH-INTERVAL;VALUE=DURATION:PT1H
X-Robots-Tag:noindex
X-PUBLISHED-TTL:PT1H
BEGIN:VTIMEZONE
TZID:America/Detroit
BEGIN:DAYLIGHT
TZOFFSETFROM:-0500
TZOFFSETTO:-0400
TZNAME:EDT
DTSTART:20240310T070000
END:DAYLIGHT
BEGIN:STANDARD
TZOFFSETFROM:-0400
TZOFFSETTO:-0500
TZNAME:EST
DTSTART:20241103T060000
END:STANDARD
BEGIN:DAYLIGHT
TZOFFSETFROM:-0500
TZOFFSETTO:-0400
TZNAME:EDT
DTSTART:20250309T070000
END:DAYLIGHT
BEGIN:STANDARD
TZOFFSETFROM:-0400
TZOFFSETTO:-0500
TZNAME:EST
DTSTART:20251102T060000
END:STANDARD
BEGIN:DAYLIGHT
TZOFFSETFROM:-0500
TZOFFSETTO:-0400
TZNAME:EDT
DTSTART:20260308T070000
END:DAYLIGHT
BEGIN:STANDARD
TZOFFSETFROM:-0400
TZOFFSETTO:-0500
TZNAME:EST
DTSTART:20261101T060000
END:STANDARD
END:VTIMEZONE
BEGIN:VEVENT
DTSTART;TZID=America/Detroit:20250516T180000
DTEND;TZID=America/Detroit:20250516T210000
DTSTAMP:20260422T003731
CREATED:20250508T150619Z
LAST-MODIFIED:20250508T150700Z
UID:2424-1747418400-1747429200@carlisletheatre.org
SUMMARY:Adult Prom on the Mainstage
DESCRIPTION:presented by Players on High at the Carlisle Theatre \nFriday\, May 16\, 6-9pm | $10 Donation/Cover | 18+ Event \nEnjoy an evening of dressing up\, taking photos\, and dancing on the historic stage of the Carlisle Theatre. Concessions\, music\, photo ops\, & mingling with friends!
URL:https://carlisletheatre.org/event/adult-prom-on-the-mainstage/
LOCATION:Carlisle Theatre\, 40 W High St\, Carlisle\, PA\, 17013\, United States
CATEGORIES:Players on High
ATTACH;FMTTYPE=image/jpeg:https://carlisletheatre.org/wp-content/uploads/2025/05/494549768_1445567303482329_5532309221583798580_n.jpg
END:VEVENT
END:VCALENDAR