BEGIN:VCALENDAR
VERSION:2.0
PRODID:-//Carlisle Theatre - ECPv6.15.20//NONSGML v1.0//EN
CALSCALE:GREGORIAN
METHOD:PUBLISH
X-WR-CALNAME:Carlisle Theatre
X-ORIGINAL-URL:https://carlisletheatre.org
X-WR-CALDESC:Events for Carlisle Theatre
REFRESH-INTERVAL;VALUE=DURATION:PT1H
X-Robots-Tag:noindex
X-PUBLISHED-TTL:PT1H
BEGIN:VTIMEZONE
TZID:America/Detroit
BEGIN:DAYLIGHT
TZOFFSETFROM:-0500
TZOFFSETTO:-0400
TZNAME:EDT
DTSTART:20240310T070000
END:DAYLIGHT
BEGIN:STANDARD
TZOFFSETFROM:-0400
TZOFFSETTO:-0500
TZNAME:EST
DTSTART:20241103T060000
END:STANDARD
BEGIN:DAYLIGHT
TZOFFSETFROM:-0500
TZOFFSETTO:-0400
TZNAME:EDT
DTSTART:20250309T070000
END:DAYLIGHT
BEGIN:STANDARD
TZOFFSETFROM:-0400
TZOFFSETTO:-0500
TZNAME:EST
DTSTART:20251102T060000
END:STANDARD
BEGIN:DAYLIGHT
TZOFFSETFROM:-0500
TZOFFSETTO:-0400
TZNAME:EDT
DTSTART:20260308T070000
END:DAYLIGHT
BEGIN:STANDARD
TZOFFSETFROM:-0400
TZOFFSETTO:-0500
TZNAME:EST
DTSTART:20261101T060000
END:STANDARD
END:VTIMEZONE
BEGIN:VEVENT
DTSTART;TZID=America/Detroit:20250515T180000
DTEND;TZID=America/Detroit:20250515T200000
DTSTAMP:20260422T004422
CREATED:20250507T161707Z
LAST-MODIFIED:20250507T161707Z
UID:2421-1747332000-1747339200@carlisletheatre.org
SUMMARY:Acoustic Coffee at Helena's Cafe
DESCRIPTION:presented by Players on High at the Carlisle Theatre\nhosted by Helena’s Chocolate Cafe & Creperie\n \nThursday\, May 15 | 6:00-8:00pm \nAccoustic Coffee with Helena’s Chocolate Cafe & Creperie. Enjoy unplugged student performances in a laid-back environment while enjoying culinary treats from a local downtown favorite establishment. This is a free event. No outside food is permitted\, and we hope you will purchase coffee & food to support our downtown neighbor. Consider a donation to the Carlisle Theatre to help support educational theatre & downtown collaborations! \n\nSign ups open! Performers Grades 9 – 12 No cover. Purchase coffee and/or food and enjoy talented student performances. This event is part of our Players on High “Encore Series\,” dedicated to giving space for student voices & artistic expression. Email casting@carlisletheatre.org to submit & for performance information. (No auditions—all students welcome. Slots filled in order of request.) \n  \n 
URL:https://carlisletheatre.org/event/accousticcoffee/
LOCATION:Carlisle Theatre\, 40 W High St\, Carlisle\, PA\, 17013\, United States
CATEGORIES:Players on High
ATTACH;FMTTYPE=image/jpeg:https://carlisletheatre.org/wp-content/uploads/2025/05/495484914_1445567296815663_2094210666793071926_n.jpg
END:VEVENT
END:VCALENDAR