BEGIN:VCALENDAR
VERSION:2.0
PRODID:-//Carlisle Theatre - ECPv6.15.20//NONSGML v1.0//EN
CALSCALE:GREGORIAN
METHOD:PUBLISH
X-WR-CALNAME:Carlisle Theatre
X-ORIGINAL-URL:https://carlisletheatre.org
X-WR-CALDESC:Events for Carlisle Theatre
REFRESH-INTERVAL;VALUE=DURATION:PT1H
X-Robots-Tag:noindex
X-PUBLISHED-TTL:PT1H
BEGIN:VTIMEZONE
TZID:America/Detroit
BEGIN:DAYLIGHT
TZOFFSETFROM:-0500
TZOFFSETTO:-0400
TZNAME:EDT
DTSTART:20240310T070000
END:DAYLIGHT
BEGIN:STANDARD
TZOFFSETFROM:-0400
TZOFFSETTO:-0500
TZNAME:EST
DTSTART:20241103T060000
END:STANDARD
BEGIN:DAYLIGHT
TZOFFSETFROM:-0500
TZOFFSETTO:-0400
TZNAME:EDT
DTSTART:20250309T070000
END:DAYLIGHT
BEGIN:STANDARD
TZOFFSETFROM:-0400
TZOFFSETTO:-0500
TZNAME:EST
DTSTART:20251102T060000
END:STANDARD
BEGIN:DAYLIGHT
TZOFFSETFROM:-0500
TZOFFSETTO:-0400
TZNAME:EDT
DTSTART:20260308T070000
END:DAYLIGHT
BEGIN:STANDARD
TZOFFSETFROM:-0400
TZOFFSETTO:-0500
TZNAME:EST
DTSTART:20261101T060000
END:STANDARD
END:VTIMEZONE
BEGIN:VEVENT
DTSTART;TZID=America/Detroit:20250702T190000
DTEND;TZID=America/Detroit:20250702T213000
DTSTAMP:20260421T224736
CREATED:20250517T190715Z
LAST-MODIFIED:20250630T204101Z
UID:2443-1751482800-1751491800@carlisletheatre.org
SUMMARY:1776
DESCRIPTION:1776\nNot Rated | Drama/Musical | 2h 22m | 1972\nCo- Sponsored by Boiling Springs\, Carlisle\, & Mount Holly Springs Lions Club \nWednesday\, July 2 @ 7:00pm \nThe nation’s fathers harmonize their way through the founding of the U.S. in this musical adaptation of the popular Broadway show. Colonial representatives gather in Philadelphia with the aim of establishing a set of government rules. Benjamin Franklin and John Adams charge Thomas Jefferson with the work of writing a statement announcing the new country’s emancipation from British rule. A perfect tale to celebrate Independence Day week!
URL:https://carlisletheatre.org/event/1776/
LOCATION:Carlisle Theatre\, 40 W High St\, Carlisle\, PA\, 17013\, United States
CATEGORIES:Hollywood on High
ATTACH;FMTTYPE=image/png:https://carlisletheatre.org/wp-content/uploads/2025/05/1776_Website.png
END:VEVENT
END:VCALENDAR