BEGIN:VCALENDAR
VERSION:2.0
PRODID:-//Carlisle Theatre - ECPv6.15.20//NONSGML v1.0//EN
CALSCALE:GREGORIAN
METHOD:PUBLISH
X-ORIGINAL-URL:https://carlisletheatre.org
X-WR-CALDESC:Events for Carlisle Theatre
REFRESH-INTERVAL;VALUE=DURATION:PT1H
X-Robots-Tag:noindex
X-PUBLISHED-TTL:PT1H
BEGIN:VTIMEZONE
TZID:America/Detroit
BEGIN:DAYLIGHT
TZOFFSETFROM:-0500
TZOFFSETTO:-0400
TZNAME:EDT
DTSTART:20230312T070000
END:DAYLIGHT
BEGIN:STANDARD
TZOFFSETFROM:-0400
TZOFFSETTO:-0500
TZNAME:EST
DTSTART:20231105T060000
END:STANDARD
BEGIN:DAYLIGHT
TZOFFSETFROM:-0500
TZOFFSETTO:-0400
TZNAME:EDT
DTSTART:20240310T070000
END:DAYLIGHT
BEGIN:STANDARD
TZOFFSETFROM:-0400
TZOFFSETTO:-0500
TZNAME:EST
DTSTART:20241103T060000
END:STANDARD
BEGIN:DAYLIGHT
TZOFFSETFROM:-0500
TZOFFSETTO:-0400
TZNAME:EDT
DTSTART:20250309T070000
END:DAYLIGHT
BEGIN:STANDARD
TZOFFSETFROM:-0400
TZOFFSETTO:-0500
TZNAME:EST
DTSTART:20251102T060000
END:STANDARD
END:VTIMEZONE
BEGIN:VEVENT
DTSTART;VALUE=DATE:20240802
DTEND;VALUE=DATE:20240804
DTSTAMP:20260424T121352
CREATED:20240729T192903Z
LAST-MODIFIED:20241010T162330Z
UID:1529-1722556800-1722729599@carlisletheatre.org
SUMMARY:Roald Dahl's Willy Wonka Jr.
DESCRIPTION:Roald Dahl’s Willy Wonka\, Jr.\nA 60-Minute Musical\npresented by Players on High Summer Camp 2024 \nPerformances:\nFriday\, August 2 @ 7PM\nSaturday August 3 @ 2PM \nThis show is for young students and families\, performed by students! Our two week musical theatre performance camp features over 40 youth\, grades 6-8\, presenting Willy Wonka\, Jr. Our students not only are the actors\, but they also were paired with professional theatre instructors to build all crew and technical aspects of the show. Support theatre education by industry professionals by purchasing your $12 ticket today. Children ages 6 and under are FREE! \n“Roald Dahl’s Willy Wonka JR. follows enigmatic candy manufacturer Willy Wonka as he stages a contest by hiding golden tickets in five of his scrumptious candy bars. Whomever comes up with these tickets will win a free tour of the Wonka factory\, as well as a lifetime supply of candy. Four of the five winning children are insufferable brats\, but the fifth is a likeable young lad named Charlie Bucket\, who takes the tour in the company of his equally amiable grandfather. The children must learn to follow Mr. Wonka’s rules in the factory — or suffer the consequences.”
URL:https://carlisletheatre.org/event/willy-wonka-jr/
LOCATION:Carlisle Theatre\, 40 W High St\, Carlisle\, PA\, 17013\, United States
CATEGORIES:Players on High
ATTACH;FMTTYPE=image/jpeg:https://carlisletheatre.org/wp-content/uploads/2024/07/WillyWonkaJr.jpg
END:VEVENT
BEGIN:VEVENT
DTSTART;TZID=America/Detroit:20240727T193000
DTEND;TZID=America/Detroit:20240727T230000
DTSTAMP:20260424T121352
CREATED:20240501T183534Z
LAST-MODIFIED:20241010T162333Z
UID:1152-1722108600-1722121200@carlisletheatre.org
SUMMARY:The Pink Floyd Experience - Featuring Anybody Out There
DESCRIPTION:Presented by Moxie Events\nSaturday\, July 27 @ 7:30PM\nOn Sale | Wednesday\, May 1 @ 10AM\ncarlisletheatre.showare.com/pinkfloydexperience \n“Anybody Out There is a musical tribute to one of the most iconic progressive rock bands of all time – Pink Floyd. The band’s repertoire covers the entire Pink Floyd catalog\, from the early Syd Barret-influenced psychedelic era to 1994’s The Division Bell album. Hits including Money\, Wish You Were Here\, Another Brick in the Wall plus selected album cuts such as Shine On You Crazy Diamond\, Pigs\, and Have A Cigar may be heard during the band’s 2-hour performance. The band also performs the legendary album\, “Dark Side Of The Moon” in its entirety at certain shows. The show consists of a spectacular stage production that faithfully duplicates the sight and sound of a “live” Pink Floyd performance.” \n[This event is hosted by the Carlisle Theatre as part of our mainstage concert event series.]
URL:https://carlisletheatre.org/event/the-pink-floyd-experience-featuring-anybody-out-there/
LOCATION:Carlisle Theatre\, 40 W High St\, Carlisle\, PA\, 17013\, United States
CATEGORIES:Concerts / Events
ATTACH;FMTTYPE=image/jpeg:https://carlisletheatre.org/wp-content/uploads/2024/05/PinkFloydTribute_web.jpg
END:VEVENT
BEGIN:VEVENT
DTSTART;TZID=America/Detroit:20240707T140000
DTEND;TZID=America/Detroit:20240828T220000
DTSTAMP:20260424T121352
CREATED:20240702T215236Z
LAST-MODIFIED:20241010T162336Z
UID:1471-1720360800-1724882400@carlisletheatre.org
SUMMARY:Film Event: Summer Film Series 2024
DESCRIPTION:🎥 Summer Family Film Series Announced!\nSunday Matinees July-August \n🎟️ $7/Regular Matinee & $5/Children 12 & Under \nJAWS | July 7 @ 2PM 🦈\nThe Princess Bride | July 14 @ 2PM 👑\nBack to the Future | July 21 @ 2PM 🔥\nA League of Their Own | July 28 @ 2PM ⚾️\nE.T. | August 11 @ 2PM 🚲\nWonder Woman | August 18 @ 2PM 🗡️\nWilly Wonka | August 25 | 2PM 🍭
URL:https://carlisletheatre.org/event/summer-film-series/
LOCATION:Carlisle Theatre\, 40 W High St\, Carlisle\, PA\, 17013\, United States
CATEGORIES:Hollywood on High
ATTACH;FMTTYPE=image/jpeg:https://carlisletheatre.org/wp-content/uploads/2024/07/Summer-Film-Series-2024-1.jpg
END:VEVENT
BEGIN:VEVENT
DTSTART;TZID=America/Detroit:20240630T130000
DTEND;TZID=America/Detroit:20240630T160000
DTSTAMP:20260424T121352
CREATED:20240501T173823Z
LAST-MODIFIED:20241010T162339Z
UID:1113-1719752400-1719763200@carlisletheatre.org
SUMMARY:Audition Workshop: From Both Sides of the Table
DESCRIPTION:Audition Workshop: From Both Sides of the Table\nWith Artistic Director Ashley Shade Byerts & Guest Panelists \nSUNDAY\, JUNE 30 | 1:00 PM – 4:00 PM (NEW DATE!) \nSuggested Donation:\n$15 – POH Member\n$20 – Regular \nBring a piece of text or monologue that you are very familiar with to workshop. Class will consist of what casting directors look for\, tips for preparation\, knowing what’s in your control\, cold reading education\, and monologue work.The session will end with a cold reading and/or monologue performance for a panel of directors for constructive feedback. If you’re serious about your craft or are new to the stage\, this course will allow you to gain confidence and professionalism in your audition process as you make it your own. \nSuitable for Grades 8 – Adult
URL:https://carlisletheatre.org/event/audition-workshop-from-both-sides-of-the-table/
LOCATION:Carlisle Theatre\, 40 W High St\, Carlisle\, PA\, 17013\, United States
CATEGORIES:Players on High
ATTACH;FMTTYPE=image/jpeg:https://carlisletheatre.org/wp-content/uploads/2024/05/331568D3-0B0F-4F9B-86FF-42FB0E54A81F.jpeg
END:VEVENT
BEGIN:VEVENT
DTSTART;TZID=America/Detroit:20240629T140000
DTEND;TZID=America/Detroit:20240629T160000
DTSTAMP:20260424T121352
CREATED:20240608T185816Z
LAST-MODIFIED:20241010T162341Z
UID:1440-1719669600-1719676800@carlisletheatre.org
SUMMARY:Film Event: Spider-Man\, Across the Spider-Verse
DESCRIPTION:🎥 FREE June Films | presented by Hollywood on High\, the film branch of the Carlisle Theatre \nJUNE 2 | FERRIS BUELLER’S DAY OFF (2:00pm) 🎓\n…congrats\, graduates!\nJUNE 6 & 7 | LOVE\, SIMON (7:30pm) 🌈\nSponsored by Carlisle Has Pride during Carlisle Pride 2024\nJUNE 14 | SELMA (7:30PM) 🗳️\nin support of Carlisle Hope Station’s Juneteenth Celebration | Learn the History : https://nmaahc.si.edu/explore/stories/what-juneteenth.\nJUNE 29 | Spider-Man: Across the Spider-Verse (2:00pm)🕸️\nSponsored by Carlisle Summerfair \n[Want to sponsor a film for the community? Email boxoffice@carlisletheatre.org. Presented by Hollywood on High\, the film branch of the historic Carlisle Theatre.]
URL:https://carlisletheatre.org/event/spiderverse/
LOCATION:Carlisle Theatre\, 40 W High St\, Carlisle\, PA\, 17013\, United States
CATEGORIES:Hollywood on High
ATTACH;FMTTYPE=image/jpeg:https://carlisletheatre.org/wp-content/uploads/2024/06/IMG_1527.jpeg
END:VEVENT
BEGIN:VEVENT
DTSTART;TZID=America/Detroit:20240628T200000
DTEND;TZID=America/Detroit:20240628T230000
DTSTAMP:20260424T121352
CREATED:20240501T181844Z
LAST-MODIFIED:20241010T162343Z
UID:1146-1719604800-1719615600@carlisletheatre.org
SUMMARY:Taylor Shines: The Laser Spectacular
DESCRIPTION:Live with DJ Tiff & DJ JC \nJUNE 28\, 2024 @ 8PM\nOn Sale |  MAY 6 @ 10AM!\nInfo:| https://taylorshineson.com/\nTickets: carlisletheatre.showare.com/taylorshines \n“Taylor Shines – The Laser Spectacular\, hosted by our electrifying DJs\, is taking America by storm in 2024.\nIt’s two hours of non-stop Taylor Swift hits seamlessly blended with the world-famous touring Laser Spectacular & Light show!\nThe show also features large-screen video projection\, 3-D glasses\, and all the mind-bending effects the Laser Spectacular is famous for. \nDJ Tiff is an extraordinary on-stage presence that has the Swifties singing along with their favorite Taylor Swift hits. Joined by DJ JC\, the two performers propel Taylor Shines to a thoroughly enjoyable evening for moms\, dads\, and all the Swifties in the family.” \n[Presented by Paramount & Carlisle Theatre. This event is for all ages!]
URL:https://carlisletheatre.org/event/taylor-shines-the-laser-spectacular/
LOCATION:Carlisle Theatre\, 40 W High St\, Carlisle\, PA\, 17013\, United States
CATEGORIES:Concerts / Events
ATTACH;FMTTYPE=image/webp:https://carlisletheatre.org/wp-content/uploads/2024/05/IMG_0802.webp
END:VEVENT
BEGIN:VEVENT
DTSTART;TZID=America/Detroit:20240622T140000
DTEND;TZID=America/Detroit:20240622T170000
DTSTAMP:20260424T121352
CREATED:20240501T193146Z
LAST-MODIFIED:20241010T162403Z
UID:1155-1719064800-1719075600@carlisletheatre.org
SUMMARY:THE EMPEROR’S NEW CLOTHES
DESCRIPTION:Presented Players on High\, 2023 | 2024 Mainstage Season\nAdults/$15 – Students/$10 – 6 & Under/$8 \nJune 21 @ 7PM\nJune 22 @ 2PM & 7PM\nJune 23 @ 2PM \nA hilarious 70 minute musical for the whole family!\n“The frivolously fashionable Emperor and his opinionated daughter Sam just can’t get along. But with the help of some colorful characters and not-so-colorful threads\, the two come to see themselves – and appreciate each other – for the first time. This family musical based on the classic Hans Christian Andersen fairy tale promises to warm the hearts of children and adults alike!”
URL:https://carlisletheatre.org/event/the-emperors-new-clothes/
LOCATION:Carlisle Theatre\, 40 W High St\, Carlisle\, PA\, 17013\, United States
CATEGORIES:Players on High
ATTACH;FMTTYPE=image/png:https://carlisletheatre.org/wp-content/uploads/2024/05/IMG_0740.png
END:VEVENT
BEGIN:VEVENT
DTSTART;TZID=America/Detroit:20240622T140000
DTEND;TZID=America/Detroit:20240622T170000
DTSTAMP:20260424T121352
CREATED:20240501T193146Z
LAST-MODIFIED:20241010T162403Z
UID:1155-1719064800-1719075600@carlisletheatre.org
SUMMARY:THE EMPEROR’S NEW CLOTHES
DESCRIPTION:Presented Players on High\, 2023 | 2024 Mainstage Season\nAdults/$15 – Students/$10 – 6 & Under/$8 \nJune 21 @ 7PM\nJune 22 @ 2PM & 7PM\nJune 23 @ 2PM \nA hilarious 70 minute musical for the whole family!\n“The frivolously fashionable Emperor and his opinionated daughter Sam just can’t get along. But with the help of some colorful characters and not-so-colorful threads\, the two come to see themselves – and appreciate each other – for the first time. This family musical based on the classic Hans Christian Andersen fairy tale promises to warm the hearts of children and adults alike!”
URL:https://carlisletheatre.org/event/the-emperors-new-clothes/
LOCATION:Carlisle Theatre\, 40 W High St\, Carlisle\, PA\, 17013\, United States
CATEGORIES:Players on High
ATTACH;FMTTYPE=image/png:https://carlisletheatre.org/wp-content/uploads/2024/05/IMG_0740.png
END:VEVENT
BEGIN:VEVENT
DTSTART;TZID=America/Detroit:20240622T140000
DTEND;TZID=America/Detroit:20240622T170000
DTSTAMP:20260424T121352
CREATED:20240501T193146Z
LAST-MODIFIED:20241010T162403Z
UID:1155-1719064800-1719075600@carlisletheatre.org
SUMMARY:THE EMPEROR’S NEW CLOTHES
DESCRIPTION:Presented Players on High\, 2023 | 2024 Mainstage Season\nAdults/$15 – Students/$10 – 6 & Under/$8 \nJune 21 @ 7PM\nJune 22 @ 2PM & 7PM\nJune 23 @ 2PM \nA hilarious 70 minute musical for the whole family!\n“The frivolously fashionable Emperor and his opinionated daughter Sam just can’t get along. But with the help of some colorful characters and not-so-colorful threads\, the two come to see themselves – and appreciate each other – for the first time. This family musical based on the classic Hans Christian Andersen fairy tale promises to warm the hearts of children and adults alike!”
URL:https://carlisletheatre.org/event/the-emperors-new-clothes/
LOCATION:Carlisle Theatre\, 40 W High St\, Carlisle\, PA\, 17013\, United States
CATEGORIES:Players on High
ATTACH;FMTTYPE=image/png:https://carlisletheatre.org/wp-content/uploads/2024/05/IMG_0740.png
END:VEVENT
BEGIN:VEVENT
DTSTART;TZID=America/Detroit:20240621T190000
DTEND;TZID=America/Detroit:20240621T220000
DTSTAMP:20260424T121352
CREATED:20240501T202242Z
LAST-MODIFIED:20241010T162415Z
UID:1169-1718996400-1719007200@carlisletheatre.org
SUMMARY:THE EMPEROR’S NEW CLOTHES
DESCRIPTION:Presented Players on High\, 2023 | 2024 Mainstage Season\nAdults/$15 – Students/$10 – 6 & Under/$8 \nJune 21 @ 7PM\nJune 22 @ 2PM & 7PM\nJune 23 @ 2PM \nA hilarious 70 minute musical for the whole family!\n“The frivolously fashionable Emperor and his opinionated daughter Sam just can’t get along. But with the help of some colorful characters and not-so-colorful threads\, the two come to see themselves – and appreciate each other – for the first time. This family musical based on the classic Hans Christian Andersen fairy tale promises to warm the hearts of children and adults alike!”
URL:https://carlisletheatre.org/event/the-emperors-new-clothes-2/
LOCATION:Carlisle Theatre\, 40 W High St\, Carlisle\, PA\, 17013\, United States
CATEGORIES:Players on High
ATTACH;FMTTYPE=image/png:https://carlisletheatre.org/wp-content/uploads/2024/05/IMG_0740.png
END:VEVENT
BEGIN:VEVENT
DTSTART;TZID=America/Detroit:20240531T190000
DTEND;TZID=America/Detroit:20240531T220000
DTSTAMP:20260424T121352
CREATED:20240501T180916Z
LAST-MODIFIED:20241010T162423Z
UID:1138-1717182000-1717192800@carlisletheatre.org
SUMMARY:Adult PROM: A Mainstage Dance Party
DESCRIPTION:May 31 | 7:00 PM – 10:00 PM \nft. Hall Pass Hero | In-House Concert Event \nOn Sale May 13\, carlisletheatre.showare.com/adultprom
URL:https://carlisletheatre.org/event/adult-prom-a-mainstage-dance-party/
LOCATION:Carlisle Theatre\, 40 W High St\, Carlisle\, PA\, 17013\, United States
CATEGORIES:Concerts / Events
ATTACH;FMTTYPE=image/webp:https://carlisletheatre.org/wp-content/uploads/2024/05/PROM_web.webp
END:VEVENT
BEGIN:VEVENT
DTSTART;TZID=America/Detroit:20240525T193000
DTEND;TZID=America/Detroit:20240525T220000
DTSTAMP:20260424T121352
CREATED:20240429T192422Z
LAST-MODIFIED:20241010T162426Z
UID:720-1716665400-1716674400@carlisletheatre.org
SUMMARY:SAVING PRIVATE RYAN
DESCRIPTION:Hollywood on High at the Carlisle Theatre\nMemorial Day Film Event\nOn sale now\, Veezi \nFollowing the Normandy Landings\, a group of U.S. soldiers go behind enemy lines to retrieve a paratrooper whose brothers have been killed in action. \nShowings:\nMay 24th | 7:30 PM\nMay 25th | 7:30 PM\nMay 26th | 2:00 PM
URL:https://carlisletheatre.org/event/saving-private-ryan/
LOCATION:Carlisle Theatre\, 40 W High St\, Carlisle\, PA\, 17013\, United States
CATEGORIES:Hollywood on High
ATTACH;FMTTYPE=image/webp:https://carlisletheatre.org/wp-content/uploads/2024/05/Private-Ryan_Web.webp
END:VEVENT
BEGIN:VEVENT
DTSTART;TZID=America/Detroit:20240525T193000
DTEND;TZID=America/Detroit:20240525T220000
DTSTAMP:20260424T121352
CREATED:20240429T192422Z
LAST-MODIFIED:20241010T162426Z
UID:720-1716665400-1716674400@carlisletheatre.org
SUMMARY:SAVING PRIVATE RYAN
DESCRIPTION:Hollywood on High at the Carlisle Theatre\nMemorial Day Film Event\nOn sale now\, Veezi \nFollowing the Normandy Landings\, a group of U.S. soldiers go behind enemy lines to retrieve a paratrooper whose brothers have been killed in action. \nShowings:\nMay 24th | 7:30 PM\nMay 25th | 7:30 PM\nMay 26th | 2:00 PM
URL:https://carlisletheatre.org/event/saving-private-ryan/
LOCATION:Carlisle Theatre\, 40 W High St\, Carlisle\, PA\, 17013\, United States
CATEGORIES:Hollywood on High
ATTACH;FMTTYPE=image/webp:https://carlisletheatre.org/wp-content/uploads/2024/05/Private-Ryan_Web.webp
END:VEVENT
BEGIN:VEVENT
DTSTART;TZID=America/Detroit:20240524T193000
DTEND;TZID=America/Detroit:20240524T220000
DTSTAMP:20260424T121352
CREATED:20240501T164128Z
LAST-MODIFIED:20241010T162438Z
UID:1103-1716579000-1716588000@carlisletheatre.org
SUMMARY:SAVING PRIVATE RYAN
DESCRIPTION:Hollywood on High at the Carlisle Theatre\nMemorial Day Film Event\nOn sale now\, Veezi \nFollowing the Normandy Landings\, a group of U.S. soldiers go behind enemy lines to retrieve a paratrooper whose brothers have been killed in action. \nShowings:\nMay 24th | 7:30 PM\nMay 25th | 7:30 PM\nMay 26th | 2:00 PM
URL:https://carlisletheatre.org/event/saving-private-ryan-2/
LOCATION:Carlisle Theatre\, 40 W High St\, Carlisle\, PA\, 17013\, United States
CATEGORIES:Hollywood on High
ATTACH;FMTTYPE=image/webp:https://carlisletheatre.org/wp-content/uploads/2024/05/Private-Ryan_Web.webp
END:VEVENT
BEGIN:VEVENT
DTSTART;TZID=America/Detroit:20240518T200000
DTEND;TZID=America/Detroit:20240518T233000
DTSTAMP:20260424T121352
CREATED:20240514T172416Z
LAST-MODIFIED:20241010T162439Z
UID:1395-1716062400-1716075000@carlisletheatre.org
SUMMARY:PARANORMAL TOURS: The Carlisle Theatre After Dark (Additional Tours!)
DESCRIPTION:SECOND WEEKEND ADDED BY POPULAR DEMAND. LONGER TOURS\, SMALLER GROUPS\, 12AM FEATURED TOUR. \nMay 18 @ 8pm\, 10pm\, and 12am\n8PM & 10PM Tours\, $35\n12AM Restricted Access Tour\, $50 \nJoin North Codorus Paranormal Society as they investigate the historic downtown Carlisle Theatre. With nearly 85 years of history the Carlisle Theatre has ghost stories galore! Let’s find out together if any of those ghosts want to communicate. Use real paranormal investigative equipment as we endeavor to uncover the truth of the ghost stories!” \nNorth Codorus Paranormal Society or NCPS for short is a professional family and friends oriented scientific paranormal research group who a dedicated to finding the truth about the paranormal. All members of NCPS are normal everyday people with jobs and families who have the drive and passion to seek the truth about paranormal and to help people understand and deal with the paranormal. The group has been helping our communities with paranormal inquiries for more than 20 years. \n[This event is co-produced by NCPS & the Carlisle Theatre.]
URL:https://carlisletheatre.org/event/paranormal-tours-the-carlisle-theatre-after-dark-additional-tours/
LOCATION:Carlisle Theatre\, 40 W High St\, Carlisle\, PA\, 17013\, United States
CATEGORIES:Concerts / Events
ATTACH;FMTTYPE=image/jpeg:https://carlisletheatre.org/wp-content/uploads/2024/05/Paranormal_5.18.jpg
END:VEVENT
BEGIN:VEVENT
DTSTART;TZID=America/Detroit:20240511T200000
DTEND;TZID=America/Detroit:20240511T230000
DTSTAMP:20260424T121352
CREATED:20240501T180118Z
LAST-MODIFIED:20241010T162443Z
UID:1132-1715457600-1715468400@carlisletheatre.org
SUMMARY:PARANORMAL TOURS: The Carlisle Theatre After Dark
DESCRIPTION:Saturday\, May 11 | 3 Tours | 8PM\,9PM\,10PM\n$20 per person | Spaces are limited.\n(Limited to (20) tickets per 50 minute tour) \nJoin North Codorus Paranormal Society as they investigate the historic downtown Carlisle Theatre. With nearly 85 years of history the Carlisle Theatre has ghost stories galore! Let’s find out together if any of those ghosts want to communicate. Use real paranormal investigative equipment as we endeavor to uncover the truth of the ghost stories!” \nNorth Codorus Paranormal Society or NCPS for short is a professional family and friends oriented scientific paranormal research group who a dedicated to finding the truth about the paranormal. All members of NCPS are normal everyday people with jobs and families who have the drive and passion to seek the truth about paranormal and to help people understand and deal with the paranormal. The group has been helping our communities with paranormal inquiries for more than 20 years. \n[This event is co-produced by NCPS & the Carlisle Theatre.]
URL:https://carlisletheatre.org/event/paranormal-tours-the-carlisle-theatre-after-dark/
LOCATION:Carlisle Theatre\, 40 W High St\, Carlisle\, PA\, 17013\, United States
CATEGORIES:Concerts / Events
ATTACH;FMTTYPE=image/webp:https://carlisletheatre.org/wp-content/uploads/2024/05/Paranormal_Web.webp
END:VEVENT
END:VCALENDAR